BEGIN:VCALENDAR
VERSION:2.0
PRODID:-//Communauté de Communes du Pays de Valois - ECPv6.15.15//NONSGML v1.0//EN
CALSCALE:GREGORIAN
METHOD:PUBLISH
X-ORIGINAL-URL:https://www.cc-paysdevalois.fr
X-WR-CALDESC:Évènements pour Communauté de Communes du Pays de Valois
REFRESH-INTERVAL;VALUE=DURATION:PT1H
X-Robots-Tag:noindex
X-PUBLISHED-TTL:PT1H
BEGIN:VTIMEZONE
TZID:Europe/Paris
BEGIN:DAYLIGHT
TZOFFSETFROM:+0100
TZOFFSETTO:+0200
TZNAME:CEST
DTSTART:20210328T010000
END:DAYLIGHT
BEGIN:STANDARD
TZOFFSETFROM:+0200
TZOFFSETTO:+0100
TZNAME:CET
DTSTART:20211031T010000
END:STANDARD
BEGIN:DAYLIGHT
TZOFFSETFROM:+0100
TZOFFSETTO:+0200
TZNAME:CEST
DTSTART:20220327T010000
END:DAYLIGHT
BEGIN:STANDARD
TZOFFSETFROM:+0200
TZOFFSETTO:+0100
TZNAME:CET
DTSTART:20221030T010000
END:STANDARD
BEGIN:DAYLIGHT
TZOFFSETFROM:+0100
TZOFFSETTO:+0200
TZNAME:CEST
DTSTART:20230326T010000
END:DAYLIGHT
BEGIN:STANDARD
TZOFFSETFROM:+0200
TZOFFSETTO:+0100
TZNAME:CET
DTSTART:20231029T010000
END:STANDARD
END:VTIMEZONE
BEGIN:VEVENT
DTSTART;TZID=Europe/Paris:20220618T140000
DTEND;TZID=Europe/Paris:20220618T140000
DTSTAMP:20260424T141145
CREATED:20220614T125606Z
LAST-MODIFIED:20220614T125606Z
UID:5757-1655560800-1655560800@www.cc-paysdevalois.fr
SUMMARY:Chantier participatif au bois de Tillet
DESCRIPTION:Un chantier participatif au Bois de Tillet est prévu le samedi 18 juin à 14h00. Rendez-vous à la mairie de Vaumoise. \nCes petits travaux ont  pour but d’évacuer la matière organique et d’enlever la fougère qui empêche la lande de coloniser le sol. Pour faire de ce chantier une réussite commune ; vous pouvez ramener des gants\, un râteau et si possible une brouette.
URL:https://www.cc-paysdevalois.fr/event/chantier-participatif-au-bois-de-tillet/
CATEGORIES:Chantier nature
ATTACH;FMTTYPE=image/png:https://www.cc-paysdevalois.fr/wp-content/uploads/2022/06/282566532_4822783174499141_4184880425003225287_n.png
END:VEVENT
END:VCALENDAR