BEGIN:VCALENDAR
VERSION:2.0
PRODID:-//Communauté de Communes du Pays de Valois - ECPv6.15.15//NONSGML v1.0//EN
CALSCALE:GREGORIAN
METHOD:PUBLISH
X-ORIGINAL-URL:https://www.cc-paysdevalois.fr
X-WR-CALDESC:Évènements pour Communauté de Communes du Pays de Valois
REFRESH-INTERVAL;VALUE=DURATION:PT1H
X-Robots-Tag:noindex
X-PUBLISHED-TTL:PT1H
BEGIN:VTIMEZONE
TZID:Europe/Paris
BEGIN:DAYLIGHT
TZOFFSETFROM:+0100
TZOFFSETTO:+0200
TZNAME:CEST
DTSTART:20190331T010000
END:DAYLIGHT
BEGIN:STANDARD
TZOFFSETFROM:+0200
TZOFFSETTO:+0100
TZNAME:CET
DTSTART:20191027T010000
END:STANDARD
BEGIN:DAYLIGHT
TZOFFSETFROM:+0100
TZOFFSETTO:+0200
TZNAME:CEST
DTSTART:20200329T010000
END:DAYLIGHT
BEGIN:STANDARD
TZOFFSETFROM:+0200
TZOFFSETTO:+0100
TZNAME:CET
DTSTART:20201025T010000
END:STANDARD
BEGIN:DAYLIGHT
TZOFFSETFROM:+0100
TZOFFSETTO:+0200
TZNAME:CEST
DTSTART:20210328T010000
END:DAYLIGHT
BEGIN:STANDARD
TZOFFSETFROM:+0200
TZOFFSETTO:+0100
TZNAME:CET
DTSTART:20211031T010000
END:STANDARD
END:VTIMEZONE
BEGIN:VEVENT
DTSTART;TZID=Europe/Paris:20200829T140000
DTEND;TZID=Europe/Paris:20200829T200000
DTSTAMP:20260426T010019
CREATED:20200819T152224Z
LAST-MODIFIED:20200819T152438Z
UID:3708-1598709600-1598731200@www.cc-paysdevalois.fr
SUMMARY:1ère édition du Festival "Culture et Patrimoine"
DESCRIPTION:À l’occasion du premier “Festival Culture et Patrimoine”\, le Conseil départemental de l’Oise invite le public à découvrir ou redécouvrir les richesses patrimoniales et naturelles oisiennes\, à partir du 29 août 2020.\nLe patrimoine de l’Oise représente un pan essentiel de notre culture locale. Les châteaux\, les parcs\, les églises\, les abbayes\, les petits bâtiments remarquables\, leurs ornements et mobiliers participent tous au rayonnement culturel de notre territoire. \nCet événement gratuit\, et ouvert à tous\, met en valeur le patrimoine architectural et culturel du département à travers des concerts\, animations\, conférences et spectacles en accès libre. \nVenez flâner et visiter de manière insolite ces lieux incontournables. \nLe “Festival Culture et Patrimoine” vous donne rendez-vous à :  \n\nErmenonville\, le samedi 29 août 2020 de 14h à 20h\n\nParc Jean-Jacques Rousseau\n1 rue René de Girardin – 60950 Ermenonville \nDécouvrez le programme de la 1ère date : https://bit.ly/3g8Viel
URL:https://www.cc-paysdevalois.fr/event/1ere-edition-du-festival-culture-et-patrimoine/
LOCATION:Parc Jean-Jacques Rousseau\, 1 rue René de Girardin\, Ermenonville\, 60950\, France
CATEGORIES:Concert,Conférence,Culture,Patrimoine,Spectacle
ATTACH;FMTTYPE=image/jpeg:https://www.cc-paysdevalois.fr/wp-content/uploads/2020/08/jj-rousseau.jpg
END:VEVENT
END:VCALENDAR