BEGIN:VCALENDAR
VERSION:2.0
PRODID:-//Communauté de Communes du Pays de Valois - ECPv6.15.15//NONSGML v1.0//EN
CALSCALE:GREGORIAN
METHOD:PUBLISH
X-ORIGINAL-URL:https://www.cc-paysdevalois.fr
X-WR-CALDESC:Évènements pour Communauté de Communes du Pays de Valois
REFRESH-INTERVAL;VALUE=DURATION:PT1H
X-Robots-Tag:noindex
X-PUBLISHED-TTL:PT1H
BEGIN:VTIMEZONE
TZID:Europe/Paris
BEGIN:DAYLIGHT
TZOFFSETFROM:+0100
TZOFFSETTO:+0200
TZNAME:CEST
DTSTART:20210328T010000
END:DAYLIGHT
BEGIN:STANDARD
TZOFFSETFROM:+0200
TZOFFSETTO:+0100
TZNAME:CET
DTSTART:20211031T010000
END:STANDARD
BEGIN:DAYLIGHT
TZOFFSETFROM:+0100
TZOFFSETTO:+0200
TZNAME:CEST
DTSTART:20220327T010000
END:DAYLIGHT
BEGIN:STANDARD
TZOFFSETFROM:+0200
TZOFFSETTO:+0100
TZNAME:CET
DTSTART:20221030T010000
END:STANDARD
BEGIN:DAYLIGHT
TZOFFSETFROM:+0100
TZOFFSETTO:+0200
TZNAME:CEST
DTSTART:20230326T010000
END:DAYLIGHT
BEGIN:STANDARD
TZOFFSETFROM:+0200
TZOFFSETTO:+0100
TZNAME:CET
DTSTART:20231029T010000
END:STANDARD
END:VTIMEZONE
BEGIN:VEVENT
DTSTART;VALUE=DATE:20220402
DTEND;VALUE=DATE:20220403
DTSTAMP:20260425T004708
CREATED:20220308T090043Z
LAST-MODIFIED:20220328T080657Z
UID:5484-1648857600-1648943999@www.cc-paysdevalois.fr
SUMMARY:Concert des élèves de l'école de musique Erik Satie
DESCRIPTION:Un concert des élèves de l’école de musique Erik Satie se tiendra le samedi 2 avril à 17h au Centre culturel MJC à Crépy-en-Valois\, en partenariat avec l’école de musique Erik Satie. \nAu programme : solistes\, duos\, classe de musique de chambre et orchestre. \nParticipation libre. 
URL:https://www.cc-paysdevalois.fr/event/concert-des-eleves-de-lecole-de-musique-erik-satie/
LOCATION:Crépy-en-Valois\, Crépy-en-Valois\, 60800
CATEGORIES:Concert
ATTACH;FMTTYPE=image/jpeg:https://www.cc-paysdevalois.fr/wp-content/uploads/2022/03/Affiche-du-concert-02-avril.-1-scaled.jpg
END:VEVENT
BEGIN:VEVENT
DTSTART;TZID=Europe/Paris:20220408T203000
DTEND;TZID=Europe/Paris:20220408T223000
DTSTAMP:20260425T004708
CREATED:20220317T122154Z
LAST-MODIFIED:20220317T122154Z
UID:5499-1649449800-1649457000@www.cc-paysdevalois.fr
SUMMARY:Los Tres Puntos
DESCRIPTION:Le groupe ska punk Los Tres Puntos vous donne rendez-vous le vendredi 8 avril 2022 à Lévignen pour un concert de folie ! \nLa soirée débutera avec la fanfare Aux Cuivres Citoyens. \n \nInfos pratiques\nTarifs : 10 € / tarif réduit : 5 € \nBilletterie en ligne
URL:https://www.cc-paysdevalois.fr/event/los-tres-puntos/
LOCATION:Espace La Chênaie\, 17\, rue du Dinotier\, Lévignen\, 60800
CATEGORIES:Concert,Happy culture,Valois terre de Cultures
ATTACH;FMTTYPE=image/jpeg:https://www.cc-paysdevalois.fr/wp-content/uploads/2022/03/Affiche-08-04-los-tres-puntos-2-scaled.jpg
END:VEVENT
END:VCALENDAR