BEGIN:VCALENDAR
VERSION:2.0
PRODID:-//Communauté de Communes du Pays de Valois - ECPv6.15.15//NONSGML v1.0//EN
CALSCALE:GREGORIAN
METHOD:PUBLISH
X-WR-CALNAME:Communauté de Communes du Pays de Valois
X-ORIGINAL-URL:https://www.cc-paysdevalois.fr
X-WR-CALDESC:Évènements pour Communauté de Communes du Pays de Valois
REFRESH-INTERVAL;VALUE=DURATION:PT1H
X-Robots-Tag:noindex
X-PUBLISHED-TTL:PT1H
BEGIN:VTIMEZONE
TZID:Europe/Paris
BEGIN:DAYLIGHT
TZOFFSETFROM:+0100
TZOFFSETTO:+0200
TZNAME:CEST
DTSTART:20210328T010000
END:DAYLIGHT
BEGIN:STANDARD
TZOFFSETFROM:+0200
TZOFFSETTO:+0100
TZNAME:CET
DTSTART:20211031T010000
END:STANDARD
BEGIN:DAYLIGHT
TZOFFSETFROM:+0100
TZOFFSETTO:+0200
TZNAME:CEST
DTSTART:20220327T010000
END:DAYLIGHT
BEGIN:STANDARD
TZOFFSETFROM:+0200
TZOFFSETTO:+0100
TZNAME:CET
DTSTART:20221030T010000
END:STANDARD
BEGIN:DAYLIGHT
TZOFFSETFROM:+0100
TZOFFSETTO:+0200
TZNAME:CEST
DTSTART:20230326T010000
END:DAYLIGHT
BEGIN:STANDARD
TZOFFSETFROM:+0200
TZOFFSETTO:+0100
TZNAME:CET
DTSTART:20231029T010000
END:STANDARD
END:VTIMEZONE
BEGIN:VEVENT
DTSTART;TZID=Europe/Paris:20220910T193000
DTEND;TZID=Europe/Paris:20220910T193000
DTSTAMP:20260424T185017
CREATED:20220823T073555Z
LAST-MODIFIED:20220823T082659Z
UID:5924-1662838200-1662838200@www.cc-paysdevalois.fr
SUMMARY:Concert GRANDE
DESCRIPTION:Dans le cadre du programme Valois\, Terre de Cultures\, nous vous donnons rendez-vous le samedi 10 septembre 2022 à 19h30\, à la salle des fêtes de Vez\, pour un concert du groupe GRANDE. \nGRANDE bâtit un monde où des êtres imaginaires s’invitent à̀ danser avec nos joies\, nos colères et nos peurs. Dans cette fiévreuse farandole\, les corps se perdent\, les peaux se touchent\, les cœurs se percent et les armes se frôlent.  \nC’est une voix qui écorche et berce nos âmes\, la frénésie enveloppante d’un violon et une guitare qui parfois caresse\, parfois blesse. Furieusement mélancolique et joyeusement triste\, leur ballet grandiose entraîne à lui le monde.  \nEt nos démons se laissent prendre\, comme nous\, dans les filets de GRANDE. \nAprès un passage remarqué dans le Valois à l’été 2021\, le duo devient quatuor avec batterie et contrebasse. A quatre\, GRANDE devient GANG\, encore mieux armé pour perforer les cœurs tendres. \nPlus d’informations : https://www.valois-terredecultures.fr/grande/
URL:https://www.cc-paysdevalois.fr/event/concert-grande/
CATEGORIES:Concert
ATTACH;FMTTYPE=image/jpeg:https://www.cc-paysdevalois.fr/wp-content/uploads/2022/08/2022-09-10-GRANDE-credit-Judith-Florent-Lapara-1-1024x683-1.jpg
END:VEVENT
END:VCALENDAR