BEGIN:VCALENDAR
VERSION:2.0
PRODID:-//Communauté de Communes du Pays de Valois - ECPv6.15.15//NONSGML v1.0//EN
CALSCALE:GREGORIAN
METHOD:PUBLISH
X-ORIGINAL-URL:https://www.cc-paysdevalois.fr
X-WR-CALDESC:Évènements pour Communauté de Communes du Pays de Valois
REFRESH-INTERVAL;VALUE=DURATION:PT1H
X-Robots-Tag:noindex
X-PUBLISHED-TTL:PT1H
BEGIN:VTIMEZONE
TZID:Europe/Paris
BEGIN:DAYLIGHT
TZOFFSETFROM:+0100
TZOFFSETTO:+0200
TZNAME:CEST
DTSTART:20220327T010000
END:DAYLIGHT
BEGIN:STANDARD
TZOFFSETFROM:+0200
TZOFFSETTO:+0100
TZNAME:CET
DTSTART:20221030T010000
END:STANDARD
BEGIN:DAYLIGHT
TZOFFSETFROM:+0100
TZOFFSETTO:+0200
TZNAME:CEST
DTSTART:20230326T010000
END:DAYLIGHT
BEGIN:STANDARD
TZOFFSETFROM:+0200
TZOFFSETTO:+0100
TZNAME:CET
DTSTART:20231029T010000
END:STANDARD
BEGIN:DAYLIGHT
TZOFFSETFROM:+0100
TZOFFSETTO:+0200
TZNAME:CEST
DTSTART:20240331T010000
END:DAYLIGHT
BEGIN:STANDARD
TZOFFSETFROM:+0200
TZOFFSETTO:+0100
TZNAME:CET
DTSTART:20241027T010000
END:STANDARD
END:VTIMEZONE
BEGIN:VEVENT
DTSTART;TZID=Europe/Paris:20230513T203000
DTEND;TZID=Europe/Paris:20230513T203000
DTSTAMP:20260424T090544
CREATED:20220823T082409Z
LAST-MODIFIED:20220823T082424Z
UID:5947-1684009800-1684009800@www.cc-paysdevalois.fr
SUMMARY:Concert - Ishii's Duet
DESCRIPTION:Dans le cadre du programme Valois\, Terre de Cultures\, nous vous donnons rendez-vous le samedi 13 mai 2023 à 20h30\, à Gilocourt. \nDuo franco-japonais né de la complicité d’un père et de sa fille\, le Ishii’S duet puise son originalité dans son ouverture aux musiques du monde entier. \nSon programme varié\, constitué d’œuvres originales comme d’arrangements\, part du Japon traditionnel vers l’Argentine\, en passant par l’Europe de l’Est ou le soleil espagnol\, et plonge l’auditeur dans une ambiance intimiste et chaleureuse. \nPlus d’informations : https://www.valois-terredecultures.fr/ishiis-duet/
URL:https://www.cc-paysdevalois.fr/event/concert-ishiis-duet/
CATEGORIES:Concert
ATTACH;FMTTYPE=image/jpeg:https://www.cc-paysdevalois.fr/wp-content/uploads/2022/08/2023-05-13-IshiiS-duet-1-768x1152-1.jpg
END:VEVENT
END:VCALENDAR