BEGIN:VCALENDAR
VERSION:2.0
PRODID:-//Communauté de Communes du Pays de Valois - ECPv6.15.15//NONSGML v1.0//EN
CALSCALE:GREGORIAN
METHOD:PUBLISH
X-WR-CALNAME:Communauté de Communes du Pays de Valois
X-ORIGINAL-URL:https://www.cc-paysdevalois.fr
X-WR-CALDESC:Évènements pour Communauté de Communes du Pays de Valois
REFRESH-INTERVAL;VALUE=DURATION:PT1H
X-Robots-Tag:noindex
X-PUBLISHED-TTL:PT1H
BEGIN:VTIMEZONE
TZID:Europe/Paris
BEGIN:DAYLIGHT
TZOFFSETFROM:+0100
TZOFFSETTO:+0200
TZNAME:CEST
DTSTART:20220327T010000
END:DAYLIGHT
BEGIN:STANDARD
TZOFFSETFROM:+0200
TZOFFSETTO:+0100
TZNAME:CET
DTSTART:20221030T010000
END:STANDARD
BEGIN:DAYLIGHT
TZOFFSETFROM:+0100
TZOFFSETTO:+0200
TZNAME:CEST
DTSTART:20230326T010000
END:DAYLIGHT
BEGIN:STANDARD
TZOFFSETFROM:+0200
TZOFFSETTO:+0100
TZNAME:CET
DTSTART:20231029T010000
END:STANDARD
BEGIN:DAYLIGHT
TZOFFSETFROM:+0100
TZOFFSETTO:+0200
TZNAME:CEST
DTSTART:20240331T010000
END:DAYLIGHT
BEGIN:STANDARD
TZOFFSETFROM:+0200
TZOFFSETTO:+0100
TZNAME:CET
DTSTART:20241027T010000
END:STANDARD
END:VTIMEZONE
BEGIN:VEVENT
DTSTART;TZID=Europe/Paris:20231006T203000
DTEND;TZID=Europe/Paris:20231006T220000
DTSTAMP:20260424T030133
CREATED:20230921T095441Z
LAST-MODIFIED:20230921T095441Z
UID:6879-1696624200-1696629600@www.cc-paysdevalois.fr
SUMMARY:Concert de Barbara Carlotti - Voyage\, voyage
DESCRIPTION:Une odyssée musicale et poétique sur la trace de chansons françaises célèbres ; et c’est Barbara Carlotti qui offre le voyage le vendredi 6 octobre à 20h30 au centre culturel mjc de Crépy-en-Valois.\n\n\n\n\n\n\n\n\n\n\nAuteure-compositrice\, curieuse\, drôle et passionnée\, Barbara Carlotti est une voix unique dans la chanson et ne cesse de multiplier les performances hors normes entre musique\, poésie\, littérature\, art contemporain\, cinéma et danse. \nAvec ce spectacle\, elle nous entraine sur la trace des plus belles chansons françaises ; de la Nationale 7 chère à Trenet\, en passant par l’amoureuse Gare de Lyon de Barbara\, pour se poursuivre en Italie et goûter à la Dolce Vita en compagnie de Christophe. Une balade Sous le soleil exactement de Gainsbourg\, qui fait une pause sur La plage abandonnée de Brigitte Bardot. \nUn périple de ville en ville pour un week-end à Rome\, Cannes\, Tunis\, Vancouver\, Genève ou encore Syracuse\, avant de s’arrêter quelque part en California avec Mylène Farmer ou de pénétrer « dans l’espace inouï de l’amour » de Desirless. \nUn voyage d’une vibrante intensité\, porté par la voix la plus élégante de la chanson française ; autant de précieux îlots musicaux à découvrir. \nInfos pratiques\nTout public\nDurée 1h15\nTarif 10 € / 5 € \nInfos et billetterie en ligne \nCentre culturel mjc\n1 avenue de l’Europe\nCrépy-en-Valois
URL:https://www.cc-paysdevalois.fr/event/concert-de-barbara-carlotti-voyage-voyage/
LOCATION:Centre culturel mjc Crépy-en-Valois\, 1 avenue de l'Europe\, Crépy-en-Valois\, 60800\, France
CATEGORIES:Chanson,Concert,Culture
ATTACH;FMTTYPE=image/jpeg:https://www.cc-paysdevalois.fr/wp-content/uploads/2023/09/affiche-Voyage-voyage-scaled.jpg
END:VEVENT
BEGIN:VEVENT
DTSTART;TZID=Europe/Paris:20231025T150000
DTEND;TZID=Europe/Paris:20231025T170000
DTSTAMP:20260424T030133
CREATED:20231005T153903Z
LAST-MODIFIED:20231024T135846Z
UID:6914-1698246000-1698253200@www.cc-paysdevalois.fr
SUMMARY:Smile - Oco [COMPLET]
DESCRIPTION:Une drôle d’aventure sur les traces de Charlot\, pour s’émerveiller en musique et jouer avec ses émotions. Poésie et humour sont bien sûr au rendez-vous le mercredi 25 octobre à 15h à Betz.\n\n\n\n\n\n\n\n\n\n\nCanne\, chapeau rond\, veste cintrée trop petite débordant sur un pantalon trop large\, sur des bottillons trop grands et une silhouette immédiatement indentifiable\, celle de Charlot. Charlot qui fait tant rire et si bien pleurer et dont l’art est synonyme d’émotion et de sensibilité.\nDe cette humanité\, Violet Arnold et Cyril Catarsi en font l’argument et le propos de Smile\, un ciné-concert plein de tendresse qui jongle avec nos sentiments\, autour du célèbre personnage. Tristesse\, joie surprise\, colère\, peur ou dégoût\, chaque sentiment est annoncé par une voix off qu’accompagne la silhouette du mime (projetée sur un écran).\nL’émotion est accueillie pour ce qu’elle est : un bienfait\, une confirmation\, un réconfort. Elle est illustrée par des extraits de films de Charlie Chaplin\, par une chanson ou une mélodie composée et interprétée par les deux musiciens d’Oco ; frisson\, rire et sensation garantis. Une belle équipée pour garder le « Smile » ! \nInfos pratiques\nSalle polyvalente\, place de la gare\n60620 Betz \nTarif : 5 €\nDurée : 40 min\nTout public dès 3 ans
URL:https://www.cc-paysdevalois.fr/event/smile-oco/
LOCATION:Betz\, Betz\, 60620
CATEGORIES:Concert,Culture,Spectacle
ATTACH;FMTTYPE=image/jpeg:https://www.cc-paysdevalois.fr/wp-content/uploads/2023/10/smile_complet-01.jpg
END:VEVENT
END:VCALENDAR