BEGIN:VCALENDAR
VERSION:2.0
PRODID:-//Communauté de Communes du Pays de Valois - ECPv6.15.15//NONSGML v1.0//EN
CALSCALE:GREGORIAN
METHOD:PUBLISH
X-WR-CALNAME:Communauté de Communes du Pays de Valois
X-ORIGINAL-URL:https://www.cc-paysdevalois.fr
X-WR-CALDESC:Évènements pour Communauté de Communes du Pays de Valois
REFRESH-INTERVAL;VALUE=DURATION:PT1H
X-Robots-Tag:noindex
X-PUBLISHED-TTL:PT1H
BEGIN:VTIMEZONE
TZID:Europe/Paris
BEGIN:DAYLIGHT
TZOFFSETFROM:+0100
TZOFFSETTO:+0200
TZNAME:CEST
DTSTART:20230326T010000
END:DAYLIGHT
BEGIN:STANDARD
TZOFFSETFROM:+0200
TZOFFSETTO:+0100
TZNAME:CET
DTSTART:20231029T010000
END:STANDARD
BEGIN:DAYLIGHT
TZOFFSETFROM:+0100
TZOFFSETTO:+0200
TZNAME:CEST
DTSTART:20240331T010000
END:DAYLIGHT
BEGIN:STANDARD
TZOFFSETFROM:+0200
TZOFFSETTO:+0100
TZNAME:CET
DTSTART:20241027T010000
END:STANDARD
BEGIN:DAYLIGHT
TZOFFSETFROM:+0100
TZOFFSETTO:+0200
TZNAME:CEST
DTSTART:20250330T010000
END:DAYLIGHT
BEGIN:STANDARD
TZOFFSETFROM:+0200
TZOFFSETTO:+0100
TZNAME:CET
DTSTART:20251026T010000
END:STANDARD
END:VTIMEZONE
BEGIN:VEVENT
DTSTART;TZID=Europe/Paris:20241207T183000
DTEND;TZID=Europe/Paris:20241207T200000
DTSTAMP:20260421T115601
CREATED:20241129T153829Z
LAST-MODIFIED:20241129T153829Z
UID:15639-1733596200-1733601600@www.cc-paysdevalois.fr
SUMMARY:Auditions des classes de chant de Danse & Musique en Valois
DESCRIPTION:Venez encourager les élèves des cours de chant dans leur audition qui se déroulera le samedi 7 décembre à 18h30 à la salle des fêtes de Marolles.\n\nSalle des fêtes | Marolles\nEntrée libre sur réservation au 03 44 59 26 96
URL:https://www.cc-paysdevalois.fr/event/auditions-des-classes-de-chant-de-danse-musique-en-valois/
LOCATION:Marolles\, Rue de l'église\, Marolles\, 60890\, France
CATEGORIES:Chanson,Concert
ATTACH;FMTTYPE=image/jpeg:https://www.cc-paysdevalois.fr/wp-content/uploads/2024/11/affiche-2-concert-chantVf-scaled.jpg
END:VEVENT
BEGIN:VEVENT
DTSTART;TZID=Europe/Paris:20241214T143000
DTEND;TZID=Europe/Paris:20241214T170000
DTSTAMP:20260421T115601
CREATED:20241129T154123Z
LAST-MODIFIED:20241129T154123Z
UID:15642-1734186600-1734195600@www.cc-paysdevalois.fr
SUMMARY:Représentations "Le conte de Michka" et Concert de Noël de Danse & Musique en Valois
DESCRIPTION:Rendez-vous pour une journée de représentation pour les élèves de musique du Conservatoire le samedi 14 décembre à partir de 14h30 au centre culturel mjc de Crépy-en-Valois.\n \nAu programme :\n14H30 Le conte de MishkaAvec les élèves des cours d’initiation à la musique et l’orchestre de Danse & Musique en Valois\n18H30 Concert de NoëlAvec les élèves instrumentistes du conservatoire\nCentre culturel mjc | Crépy-en-Valois\nEntrée libre sur réservation au 03 44 59 26 96
URL:https://www.cc-paysdevalois.fr/event/representations-le-conte-de-michka-et-concert-de-noel-de-danse-musique-en-valois/
LOCATION:centre cuurel mjc
CATEGORIES:Concert,Spectacle
ATTACH;FMTTYPE=image/jpeg:https://www.cc-paysdevalois.fr/wp-content/uploads/2024/11/affiche-14-12-conte-et-concert-noel-Vf-scaled.jpg
END:VEVENT
END:VCALENDAR