BEGIN:VCALENDAR
VERSION:2.0
PRODID:-//Communauté de Communes du Pays de Valois - ECPv6.15.15//NONSGML v1.0//EN
CALSCALE:GREGORIAN
METHOD:PUBLISH
X-WR-CALNAME:Communauté de Communes du Pays de Valois
X-ORIGINAL-URL:https://www.cc-paysdevalois.fr
X-WR-CALDESC:Évènements pour Communauté de Communes du Pays de Valois
REFRESH-INTERVAL;VALUE=DURATION:PT1H
X-Robots-Tag:noindex
X-PUBLISHED-TTL:PT1H
BEGIN:VTIMEZONE
TZID:Europe/Paris
BEGIN:DAYLIGHT
TZOFFSETFROM:+0100
TZOFFSETTO:+0200
TZNAME:CEST
DTSTART:20250330T010000
END:DAYLIGHT
BEGIN:STANDARD
TZOFFSETFROM:+0200
TZOFFSETTO:+0100
TZNAME:CET
DTSTART:20251026T010000
END:STANDARD
BEGIN:DAYLIGHT
TZOFFSETFROM:+0100
TZOFFSETTO:+0200
TZNAME:CEST
DTSTART:20260329T010000
END:DAYLIGHT
BEGIN:STANDARD
TZOFFSETFROM:+0200
TZOFFSETTO:+0100
TZNAME:CET
DTSTART:20261025T010000
END:STANDARD
BEGIN:DAYLIGHT
TZOFFSETFROM:+0100
TZOFFSETTO:+0200
TZNAME:CEST
DTSTART:20270328T010000
END:DAYLIGHT
BEGIN:STANDARD
TZOFFSETFROM:+0200
TZOFFSETTO:+0100
TZNAME:CET
DTSTART:20271031T010000
END:STANDARD
END:VTIMEZONE
BEGIN:VEVENT
DTSTART;TZID=Europe/Paris:20260130T190000
DTEND;TZID=Europe/Paris:20260130T203000
DTSTAMP:20260419T172238
CREATED:20260128T134444Z
LAST-MODIFIED:20260128T134519Z
UID:23249-1769799600-1769805000@www.cc-paysdevalois.fr
SUMMARY:La Nuit des Conservatoires
DESCRIPTION:Cette année\, à l’occasion de la Nuit des Conservatoires\, événement national\, le conservatoire vous invite à une expérience singulière : un concert à la bougie.\n\n\n \nAu programme : un quatuor de saxophones\, de la musique de chambre et quelques soli.\nVenez redécouvrir ce lieu dans une atmosphère intimiste et chaleureuse.\n\n\n \nEntrée libre
URL:https://www.cc-paysdevalois.fr/event/la-nuit-des-conservatoires/
LOCATION:Danse & Musique en Valois\, 62\, rue de Soissons\, Créoy-en-Valois\, 60800\, France
CATEGORIES:Concert
ATTACH;FMTTYPE=image/jpeg:https://www.cc-paysdevalois.fr/wp-content/uploads/2026/01/Affiche-nuit-des-conservatoires-scaled-e1769607908377.jpg
END:VEVENT
END:VCALENDAR