BEGIN:VCALENDAR
VERSION:2.0
PRODID:-//Communauté de Communes du Pays de Valois - ECPv6.15.15//NONSGML v1.0//EN
CALSCALE:GREGORIAN
METHOD:PUBLISH
X-WR-CALNAME:Communauté de Communes du Pays de Valois
X-ORIGINAL-URL:https://www.cc-paysdevalois.fr
X-WR-CALDESC:Évènements pour Communauté de Communes du Pays de Valois
REFRESH-INTERVAL;VALUE=DURATION:PT1H
X-Robots-Tag:noindex
X-PUBLISHED-TTL:PT1H
BEGIN:VTIMEZONE
TZID:Europe/Paris
BEGIN:DAYLIGHT
TZOFFSETFROM:+0100
TZOFFSETTO:+0200
TZNAME:CEST
DTSTART:20210328T010000
END:DAYLIGHT
BEGIN:STANDARD
TZOFFSETFROM:+0200
TZOFFSETTO:+0100
TZNAME:CET
DTSTART:20211031T010000
END:STANDARD
BEGIN:DAYLIGHT
TZOFFSETFROM:+0100
TZOFFSETTO:+0200
TZNAME:CEST
DTSTART:20220327T010000
END:DAYLIGHT
BEGIN:STANDARD
TZOFFSETFROM:+0200
TZOFFSETTO:+0100
TZNAME:CET
DTSTART:20221030T010000
END:STANDARD
BEGIN:DAYLIGHT
TZOFFSETFROM:+0100
TZOFFSETTO:+0200
TZNAME:CEST
DTSTART:20230326T010000
END:DAYLIGHT
BEGIN:STANDARD
TZOFFSETFROM:+0200
TZOFFSETTO:+0100
TZNAME:CET
DTSTART:20231029T010000
END:STANDARD
END:VTIMEZONE
BEGIN:VEVENT
DTSTART;TZID=Europe/Paris:20220618T163000
DTEND;TZID=Europe/Paris:20220618T183000
DTSTAMP:20260424T232531
CREATED:20220609T101347Z
LAST-MODIFIED:20220609T101347Z
UID:5742-1655569800-1655577000@www.cc-paysdevalois.fr
SUMMARY:Concert des élèves de l'École de musique Érik Satie
DESCRIPTION:L’École de musique Érik Satie clôture son année et son projet autour de l’Amérique du Sud. \nRendez-vous le samedi 18 juin 2022 de 16h30 à 18h30 dans la cour de l’École primaire Jean Cocteau à Crépy-en-Valois. \nAu programme : des contes avec Alain Poirée\, diverses formations musicales avec les élèves de l’École de Musique Erik Satie : solistes\, duettistes\, petits ensembles et orchestre. \nL’orchestre des élèves sera rejoint par l’Harmonie du Valois et les enfants de l’atelier percussions de la MJC Centre Social. C’est donc une cinquantaine de musiciens qui seront présents sur scène pour célébrer l’Amérique du Sud et le travail des élèves\, professeurs et des partenaires des 20 dernières années ! \nEntrée libre. \nAttention : pas de buvette ni de restauration sur place.
URL:https://www.cc-paysdevalois.fr/event/concert-des-eleves-de-lecole-de-musique-erik-satie-2/
LOCATION:Crépy-en-Valois\, Crépy-en-Valois\, 60800
CATEGORIES:Concert
ATTACH;FMTTYPE=image/jpeg:https://www.cc-paysdevalois.fr/wp-content/uploads/2022/06/Affiche-180622-scaled-1.jpg
ORGANIZER;CN="Ecole de musique Erik Satie":MAILTO:ecole.eriksatie@gmail.com
END:VEVENT
END:VCALENDAR