BEGIN:VCALENDAR
VERSION:2.0
PRODID:-//Communauté de Communes du Pays de Valois - ECPv6.15.15//NONSGML v1.0//EN
CALSCALE:GREGORIAN
METHOD:PUBLISH
X-ORIGINAL-URL:https://www.cc-paysdevalois.fr
X-WR-CALDESC:Évènements pour Communauté de Communes du Pays de Valois
REFRESH-INTERVAL;VALUE=DURATION:PT1H
X-Robots-Tag:noindex
X-PUBLISHED-TTL:PT1H
BEGIN:VTIMEZONE
TZID:Europe/Paris
BEGIN:DAYLIGHT
TZOFFSETFROM:+0100
TZOFFSETTO:+0200
TZNAME:CEST
DTSTART:20210328T010000
END:DAYLIGHT
BEGIN:STANDARD
TZOFFSETFROM:+0200
TZOFFSETTO:+0100
TZNAME:CET
DTSTART:20211031T010000
END:STANDARD
BEGIN:DAYLIGHT
TZOFFSETFROM:+0100
TZOFFSETTO:+0200
TZNAME:CEST
DTSTART:20220327T010000
END:DAYLIGHT
BEGIN:STANDARD
TZOFFSETFROM:+0200
TZOFFSETTO:+0100
TZNAME:CET
DTSTART:20221030T010000
END:STANDARD
BEGIN:DAYLIGHT
TZOFFSETFROM:+0100
TZOFFSETTO:+0200
TZNAME:CEST
DTSTART:20230326T010000
END:DAYLIGHT
BEGIN:STANDARD
TZOFFSETFROM:+0200
TZOFFSETTO:+0100
TZNAME:CET
DTSTART:20231029T010000
END:STANDARD
END:VTIMEZONE
BEGIN:VEVENT
DTSTART;VALUE=DATE:20220708
DTEND;VALUE=DATE:20220710
DTSTAMP:20260424T221511
CREATED:20220524T142438Z
LAST-MODIFIED:20220610T143810Z
UID:5682-1657238400-1657411199@www.cc-paysdevalois.fr
SUMMARY:Concert de l'Ensemble de clarinettes de Paris - Un été dans le Valois
DESCRIPTION:Rendez-vous le vendredi 8 juillet dès 18h à Auger-Saint-Vincent et le samedi 9 juillet dès 18h à Montagny-Sainte-Félicité pour un concert de l’Ensemble de clarinettes de Paris\, proposé dans le cadre du festival Un été dans le Valois. \nEntrée libre et gratuite. Plus d’informations sur www.valois-terredecultures.fr.
URL:https://www.cc-paysdevalois.fr/event/concert-de-lensemble-de-clarinettes-de-paris-un-ete-dans-le-valois/
CATEGORIES:Concert
ATTACH;FMTTYPE=image/jpeg:https://www.cc-paysdevalois.fr/wp-content/uploads/2022/05/affiche_8-9-07-clarinette-01-1-scaled.jpg
END:VEVENT
END:VCALENDAR