BEGIN:VCALENDAR
VERSION:2.0
PRODID:-//Communauté de Communes du Pays de Valois - ECPv6.15.15//NONSGML v1.0//EN
CALSCALE:GREGORIAN
METHOD:PUBLISH
X-WR-CALNAME:Communauté de Communes du Pays de Valois
X-ORIGINAL-URL:https://www.cc-paysdevalois.fr
X-WR-CALDESC:Évènements pour Communauté de Communes du Pays de Valois
REFRESH-INTERVAL;VALUE=DURATION:PT1H
X-Robots-Tag:noindex
X-PUBLISHED-TTL:PT1H
BEGIN:VTIMEZONE
TZID:Europe/Paris
BEGIN:DAYLIGHT
TZOFFSETFROM:+0100
TZOFFSETTO:+0200
TZNAME:CEST
DTSTART:20210328T010000
END:DAYLIGHT
BEGIN:STANDARD
TZOFFSETFROM:+0200
TZOFFSETTO:+0100
TZNAME:CET
DTSTART:20211031T010000
END:STANDARD
BEGIN:DAYLIGHT
TZOFFSETFROM:+0100
TZOFFSETTO:+0200
TZNAME:CEST
DTSTART:20220327T010000
END:DAYLIGHT
BEGIN:STANDARD
TZOFFSETFROM:+0200
TZOFFSETTO:+0100
TZNAME:CET
DTSTART:20221030T010000
END:STANDARD
BEGIN:DAYLIGHT
TZOFFSETFROM:+0100
TZOFFSETTO:+0200
TZNAME:CEST
DTSTART:20230326T010000
END:DAYLIGHT
BEGIN:STANDARD
TZOFFSETFROM:+0200
TZOFFSETTO:+0100
TZNAME:CET
DTSTART:20231029T010000
END:STANDARD
END:VTIMEZONE
BEGIN:VEVENT
DTSTART;VALUE=DATE:20220514
DTEND;VALUE=DATE:20220516
DTSTAMP:20260424T174259
CREATED:20220421T090116Z
LAST-MODIFIED:20220503T071401Z
UID:5621-1652486400-1652659199@www.cc-paysdevalois.fr
SUMMARY:Floralys & Terroirs
DESCRIPTION:Pépiniéristes\, fleuristes\, paysagistes\, producteurs locaux\, décorateurs floraux… ces passionnés se réunissent pour vous introduire les dernières tendances en matière de décoration paysagères. Ils sauront à la fois vous proposer articles et conseils autour de l’aménagement de votre extérieur. Entrez dans leur jardin secret ! \nCôté terroir\, des producteurs locaux seront au rendez-vous. Miel\, fruits secs\, macarons\, charcuterie\, fromage… Vous pourrez ainsi découvrir leurs spécialités et bénéficier de précieux conseils culinaires. \nL’artisanat sera aussi à l’honneur avec de la décoration d’intérieur et d’extérieur\, des bijoux\, de la broderie\, de la gravure sur bois\, des couronnes de fleurs séchées\, des luminaires\, du mobilier style industriel et bien d’autres. \n  \nZOOM SUR LE PROGRAMME \nSamedi 14 mai et dimanche 15 mai \nPour cette nouvelle édition\, plusieurs intervenants sont au programme. \nRendez-vous samedi et dimanche\, de 14h à 18h\, pour une animation musicale proposée par Luc Alenvers. \nEn parallèle\, Chris Lambert et sa tronçonneuse réaliseront une animation sculpture sur bois. \nSur ces mêmes heures\, une balade dans le parc à dos de poney sera proposée à tous gratuitement. \nSamedi\, de 18h30 à 22h\, le groupe Foumagnac vous interprétera son répertoire des plus belles chansons folk. Ambiance au coin du feu garantie ! \nDimanche\, de 14h à 16h30\, le Conseil Municipal des Jeunes animera un concours de poids de paniers garnis (+ remise des récompenses ??) ainsi qu’un stand de maquillage. \nPetite restauration sucrée et salée sur place avec l’Ardoise Gourmande et la Bella Crêpe samedi midi et soir\, dimanche midi. \n  \nEntrée libre et gratuite de 10h à 19h\, avenue du Parc à Crépy-en-Valois.
URL:https://www.cc-paysdevalois.fr/event/floralys-terroirs-2/
LOCATION:Crépy-en-Valois\, Crépy-en-Valois\, 60800
CATEGORIES:Évènement
ATTACH;FMTTYPE=image/jpeg:https://www.cc-paysdevalois.fr/wp-content/uploads/2022/04/floralys_couv-rs_Facebook-Photo-de-couverture-828-x-315-scaled.jpg
END:VEVENT
END:VCALENDAR