BEGIN:VCALENDAR
VERSION:2.0
PRODID:-//Communauté de Communes du Pays de Valois - ECPv6.15.15//NONSGML v1.0//EN
CALSCALE:GREGORIAN
METHOD:PUBLISH
X-ORIGINAL-URL:https://www.cc-paysdevalois.fr
X-WR-CALDESC:Évènements pour Communauté de Communes du Pays de Valois
REFRESH-INTERVAL;VALUE=DURATION:PT1H
X-Robots-Tag:noindex
X-PUBLISHED-TTL:PT1H
BEGIN:VTIMEZONE
TZID:Europe/Paris
BEGIN:DAYLIGHT
TZOFFSETFROM:+0100
TZOFFSETTO:+0200
TZNAME:CEST
DTSTART:20220327T010000
END:DAYLIGHT
BEGIN:STANDARD
TZOFFSETFROM:+0200
TZOFFSETTO:+0100
TZNAME:CET
DTSTART:20221030T010000
END:STANDARD
BEGIN:DAYLIGHT
TZOFFSETFROM:+0100
TZOFFSETTO:+0200
TZNAME:CEST
DTSTART:20230326T010000
END:DAYLIGHT
BEGIN:STANDARD
TZOFFSETFROM:+0200
TZOFFSETTO:+0100
TZNAME:CET
DTSTART:20231029T010000
END:STANDARD
BEGIN:DAYLIGHT
TZOFFSETFROM:+0100
TZOFFSETTO:+0200
TZNAME:CEST
DTSTART:20240331T010000
END:DAYLIGHT
BEGIN:STANDARD
TZOFFSETFROM:+0200
TZOFFSETTO:+0100
TZNAME:CET
DTSTART:20241027T010000
END:STANDARD
END:VTIMEZONE
BEGIN:VEVENT
DTSTART;VALUE=DATE:20230520
DTEND;VALUE=DATE:20230611
DTSTAMP:20260424T020050
CREATED:20230516T152257Z
LAST-MODIFIED:20230516T152257Z
UID:6525-1684540800-1686441599@www.cc-paysdevalois.fr
SUMMARY:Le Printemps des Lavoirs
DESCRIPTION:Découvrir le Pays de Valois au travers de ses lavoirs : c’est l’essence de cet évènement qui aura lieu\, comme chaque année\, au printemps dans plusieurs villes et villages du Valois. Des animations seront proposées aux visiteurs.\nL’Office de Tourisme du Pays de Valois s’associe à la ville de Crépy-en-Valois pour une visite guidée inédite sur le thème “Crépy-en-Valois au fil de l’eau” à découvrir le samedi 3 juin. \nLe programme\nSamedi 20 mai de 15h à 18h : Gilocourt\nExposition sur les roses et lectures sur le Printemps au Lavoir et balade dans La Gervalle.\nContact : Michèle au 06 45 80 68 40 \nSamedi 27 mai à 17h : Morienval\nRendez-vous au Lavoir St Denis pour un concert en 2 partie : “Aubade des guitares” et “L’ensemble Irlandais” par l’association “Les orchestres du Valois”.\nContact : Brigitte au 06 60 92 90 11 \nLundi 29 mai : Feigneux/Fresnoy-la-Rivière\nDe 14h à 15h30 : Rendez-vous au mlavoir de Pondron pour une balade nature\n16h : Concert jazz avec le groupe “Why not jazz”\nContact : Sébastien au 06 89 69 19 72 \nSamedi 3 juin de 10h à 12h : Crépy-en-Valois\n“Crépy au fil de l’eau”\, promenade guidée entre les lavoirs avec l’Office de tourisme du Payys de Valois. Rendez-vous sur le parking 1 avenue de l’Europe\nContact : 03 44 59 03 97 \nSamedi 10 juin à 15h : Béthancourt-en-Valois\n“Un voyage au fil de l’eau” avec ses lavandières accompagnées par la chorale Canto Vitae. Rendez-vous au lavoir.\nContact : Dominique au 06 72 50 51 18 \nSamedi 10 juin à 20h : Éméville\nConcert blues\, rock et country avec le groupe “The flying Blue Boys in the Dishroasher”. Rendez-vous “cour de la Fontaine”.\nContact : 06 82 10 11 57
URL:https://www.cc-paysdevalois.fr/event/le-printemps-des-lavoirs/
LOCATION:Valois
CATEGORIES:Évènement,Patrimoine,Visite guidée
ATTACH;FMTTYPE=image/png:https://www.cc-paysdevalois.fr/wp-content/uploads/2023/05/Printemps-des-lavoirs.png
END:VEVENT
BEGIN:VEVENT
DTSTART;TZID=Europe/Paris:20230616T123000
DTEND;TZID=Europe/Paris:20230620T190000
DTSTAMP:20260424T020050
CREATED:20230608T125045Z
LAST-MODIFIED:20230608T125121Z
UID:6563-1686918600-1687287600@www.cc-paysdevalois.fr
SUMMARY:Little garden\, parade nuptiale jonglée
DESCRIPTION:Little Garden est une petite fenêtre ouverte sur une jungle méconnue. Une parade nuptiale jonglée\, une démonstration de force brute\, bruyante et bestiale. Une invitation à stimuler l’imagination de chacun. Une ode à la vie\, tout bêtement. Comme les saumons qui remontent le courant pour aller s’accoupler au péril de leur propre vie\, une créature entre sur scène\, balles à la main\, pour chercher et choisir sa compagne. \nApprochez et observez ce spécimen rare et insolite de jongleur-animal à la saison des amours ! \n4 représentations dans le Pays de Valois en juin 2023\n\nvendredi 16 juin à 12h30 au parc de Géresme à Crépy-en-Valois\nvendredi 16 juin à 19h au parc de la mairie à Rocquemont\nmardi 20 juin à 12h30 au parc Ste Agathe à Crépy-en-Valois\nmardi 20 juin à 19h sur la Voie verte à Betz\n\nDates à venir en août et septembre !\nSpectacle gratuit de jonglerie et de zoomorphie\, tout public dès 7 ans.
URL:https://www.cc-paysdevalois.fr/event/little-garden/
LOCATION:Valois
CATEGORIES:Évènement,Humour,Théâtre
ATTACH;FMTTYPE=image/png:https://www.cc-paysdevalois.fr/wp-content/uploads/2023/06/affiche-little-garden_v4-Grand.png
END:VEVENT
END:VCALENDAR