BEGIN:VCALENDAR
VERSION:2.0
PRODID:-//Communauté de Communes du Pays de Valois - ECPv6.15.15//NONSGML v1.0//EN
CALSCALE:GREGORIAN
METHOD:PUBLISH
X-ORIGINAL-URL:https://www.cc-paysdevalois.fr
X-WR-CALDESC:Évènements pour Communauté de Communes du Pays de Valois
REFRESH-INTERVAL;VALUE=DURATION:PT1H
X-Robots-Tag:noindex
X-PUBLISHED-TTL:PT1H
BEGIN:VTIMEZONE
TZID:Europe/Paris
BEGIN:DAYLIGHT
TZOFFSETFROM:+0100
TZOFFSETTO:+0200
TZNAME:CEST
DTSTART:20220327T010000
END:DAYLIGHT
BEGIN:STANDARD
TZOFFSETFROM:+0200
TZOFFSETTO:+0100
TZNAME:CET
DTSTART:20221030T010000
END:STANDARD
BEGIN:DAYLIGHT
TZOFFSETFROM:+0100
TZOFFSETTO:+0200
TZNAME:CEST
DTSTART:20230326T010000
END:DAYLIGHT
BEGIN:STANDARD
TZOFFSETFROM:+0200
TZOFFSETTO:+0100
TZNAME:CET
DTSTART:20231029T010000
END:STANDARD
BEGIN:DAYLIGHT
TZOFFSETFROM:+0100
TZOFFSETTO:+0200
TZNAME:CEST
DTSTART:20240331T010000
END:DAYLIGHT
BEGIN:STANDARD
TZOFFSETFROM:+0200
TZOFFSETTO:+0100
TZNAME:CET
DTSTART:20241027T010000
END:STANDARD
END:VTIMEZONE
BEGIN:VEVENT
DTSTART;VALUE=DATE:20230418
DTEND;VALUE=DATE:20230429
DTSTAMP:20260424T053432
CREATED:20230417T085915Z
LAST-MODIFIED:20230417T085915Z
UID:6432-1681776000-1682726399@www.cc-paysdevalois.fr
SUMMARY:Jeu de piste : partez à la recherche des trésors du Valois
DESCRIPTION:Du 18 au 21 et du 25 au 28 avril 2023\, partez en famille pour une chasse au trésor dans les rues du centre ville historique de Crépy-en-Valois. \nAvec votre téléphone et votre détermination\, vous trouverez le chemin vers le trésor ! \nInfos pratiques\nInscription par téléphone au 03 44 59 03 97. \nTarif : 4€ pour les adultes – 2€ pour les enfants.
URL:https://www.cc-paysdevalois.fr/event/jeu-de-piste-partez-a-la-recherche-des-tresors-du-valois-5/
LOCATION:Crépy-en-Valois\, Danse & Musique en Valois\, 8 impasse belle image
CATEGORIES:Animation enfants,Évènement,Patrimoine
ATTACH;FMTTYPE=image/jpeg:https://www.cc-paysdevalois.fr/wp-content/uploads/2023/04/Flyer_jeudepiste-DL-scaled.jpg
END:VEVENT
END:VCALENDAR