BEGIN:VCALENDAR
VERSION:2.0
PRODID:-//Communauté de Communes du Pays de Valois - ECPv6.15.15//NONSGML v1.0//EN
CALSCALE:GREGORIAN
METHOD:PUBLISH
X-WR-CALNAME:Communauté de Communes du Pays de Valois
X-ORIGINAL-URL:https://www.cc-paysdevalois.fr
X-WR-CALDESC:Évènements pour Communauté de Communes du Pays de Valois
REFRESH-INTERVAL;VALUE=DURATION:PT1H
X-Robots-Tag:noindex
X-PUBLISHED-TTL:PT1H
BEGIN:VTIMEZONE
TZID:Europe/Paris
BEGIN:DAYLIGHT
TZOFFSETFROM:+0100
TZOFFSETTO:+0200
TZNAME:CEST
DTSTART:20220327T010000
END:DAYLIGHT
BEGIN:STANDARD
TZOFFSETFROM:+0200
TZOFFSETTO:+0100
TZNAME:CET
DTSTART:20221030T010000
END:STANDARD
BEGIN:DAYLIGHT
TZOFFSETFROM:+0100
TZOFFSETTO:+0200
TZNAME:CEST
DTSTART:20230326T010000
END:DAYLIGHT
BEGIN:STANDARD
TZOFFSETFROM:+0200
TZOFFSETTO:+0100
TZNAME:CET
DTSTART:20231029T010000
END:STANDARD
BEGIN:DAYLIGHT
TZOFFSETFROM:+0100
TZOFFSETTO:+0200
TZNAME:CEST
DTSTART:20240331T010000
END:DAYLIGHT
BEGIN:STANDARD
TZOFFSETFROM:+0200
TZOFFSETTO:+0100
TZNAME:CET
DTSTART:20241027T010000
END:STANDARD
END:VTIMEZONE
BEGIN:VEVENT
DTSTART;TZID=Europe/Paris:20230709T170000
DTEND;TZID=Europe/Paris:20230709T173000
DTSTAMP:20260424T020157
CREATED:20230621T123617Z
LAST-MODIFIED:20230621T123617Z
UID:6603-1688922000-1688923800@www.cc-paysdevalois.fr
SUMMARY:Le poids des nuages
DESCRIPTION:La Compagnie Hors Surface vous donne rendez-vous au parc Sainte Agathe à Crépy-en-Valois le dimanche 9 juillet à 17h.\nVéritable invitation à la découverte de performances artistiques tout en profitant des longues journées d’été\,  “Les Ephémères” se résument en 8 rendez-vous sur 4 week-ends\, aux 4 coins du Pays de Valois. Du 8 au 29 juillet\, participez à des moments d’échange\, de partage et de convivialité autour des arts de la rue et du cirque.  \nAprès Home\, Damien Droin nous emporte dans une nouvelle aventure défiant les lois de la gravité dans laquelle il poursuit sa recherche sur l’envol\, la chute et la suspension. \nUtilisant la spectaculaire capacité de rebond de son immense trampoline\, il part\, avec Aris Colangelo\, à l’assaut du ciel. Perchés sur une échelle\, les deux acrobates se jouent du vide\, avec pour seul filet la toile de 80 m². \nEntre contrôle et lâcher prise\, ils tentent des équilibres improbables\, chutent\, remontent\, se dépassent et se réinventent ; jouant de leurs similitudes\, de leurs différences et de leur complémentarité. \nLa virtuosité reste totale\, mais la performance gagne en subtilité ; pétrie d’humanité\, poétique et facétieuse\, elle nous transporte et nous émeut. \nInfos pratiques\nSpectacle gratuit / tout public / durée 30 min
URL:https://www.cc-paysdevalois.fr/event/le-poids-des-nuages/
LOCATION:Parc Ste Agathe Crépy-en-Valois\, avenue du parc\, Crépy-en-Valois\, 60800
CATEGORIES:Culture,Évènement,Spectacle,Valois terre de Cultures
ATTACH;FMTTYPE=image/png:https://www.cc-paysdevalois.fr/wp-content/uploads/2023/06/affiche-le-poids-des-nuages.png
END:VEVENT
END:VCALENDAR