BEGIN:VCALENDAR
VERSION:2.0
PRODID:-//Communauté de Communes du Pays de Valois - ECPv6.15.15//NONSGML v1.0//EN
CALSCALE:GREGORIAN
METHOD:PUBLISH
X-ORIGINAL-URL:https://www.cc-paysdevalois.fr
X-WR-CALDESC:Évènements pour Communauté de Communes du Pays de Valois
REFRESH-INTERVAL;VALUE=DURATION:PT1H
X-Robots-Tag:noindex
X-PUBLISHED-TTL:PT1H
BEGIN:VTIMEZONE
TZID:Europe/Paris
BEGIN:DAYLIGHT
TZOFFSETFROM:+0100
TZOFFSETTO:+0200
TZNAME:CEST
DTSTART:20220327T010000
END:DAYLIGHT
BEGIN:STANDARD
TZOFFSETFROM:+0200
TZOFFSETTO:+0100
TZNAME:CET
DTSTART:20221030T010000
END:STANDARD
BEGIN:DAYLIGHT
TZOFFSETFROM:+0100
TZOFFSETTO:+0200
TZNAME:CEST
DTSTART:20230326T010000
END:DAYLIGHT
BEGIN:STANDARD
TZOFFSETFROM:+0200
TZOFFSETTO:+0100
TZNAME:CET
DTSTART:20231029T010000
END:STANDARD
BEGIN:DAYLIGHT
TZOFFSETFROM:+0100
TZOFFSETTO:+0200
TZNAME:CEST
DTSTART:20240331T010000
END:DAYLIGHT
BEGIN:STANDARD
TZOFFSETFROM:+0200
TZOFFSETTO:+0100
TZNAME:CET
DTSTART:20241027T010000
END:STANDARD
END:VTIMEZONE
BEGIN:VEVENT
DTSTART;TZID=Europe/Paris:20230722T180000
DTEND;TZID=Europe/Paris:20230722T190000
DTSTAMP:20260424T015913
CREATED:20230621T132238Z
LAST-MODIFIED:20230621T132238Z
UID:6620-1690048800-1690052400@www.cc-paysdevalois.fr
SUMMARY:Stoïk
DESCRIPTION:Découvrez “Stoïk” par la Compagnie Les GüMS\, le samedi 22 juillet à 18h dans le parc des écoles à Nanteuil-le-Haudouin et le dimanche 23 juillet à 17h30 à 17h30 dans la cour de l’école à Mareuil-sur-Ourcq.\nVéritable invitation à la découverte de performances artistiques tout en profitant des longues journées d’été\,  “Les Ephémères” se résument en 8 rendez-vous sur 4 week-ends\, aux 4 coins du Pays de Valois. Du 8 au 29 juillet\, participez à des moments d’échange\, de partage et de convivialité autour des arts de la rue et du cirque.  \nLui\, grand\, dégingandé et mollasson ; il veut bien faire. \nElle\, petite et énergique\, mais tout la dépasse. \nTout les oppose ; pourtant\, ils vont devoir cohabiter pour nous raconter ces petits riens du quotidien. Où mettre son sac ? Comment s’asseoir sur une chaise ? Sans se parler\, par la seule expression de leur corps\, le duo renvoie le spectateur à ses différences ; un atout ou un obstacle ? Entrez dans l’univers des GüMS ; entre cirque\, jeu clownesque et musique\, ce sont monsieur et madame tout le monde. Leur marque de fabrique : une scénographie épurée\, où le moteur est l’ennui et le carburant l’attente. Ils veulent toujours bien faire pour mieux rater. La grantitude du rien pour montrer la petitude du tout. Chez les GüMS\, c’est du rire autant que de la tendresse. \nTout y est simple\, léger et incroyablement comique ! Dans ce drôle de monde\, tout semble normal… ou presque\, au début. \nInfos pratiques\nSpectacle gratuit / tout public\nDurée 55 min
URL:https://www.cc-paysdevalois.fr/event/stoik-2/
LOCATION:Nanteuil-le-Haudouin\, parc des écoles\, rue Gambetta\, Nanteuil-le-Haudouin\, 60440
CATEGORIES:Culture,Évènement,Spectacle,Valois terre de Cultures
ATTACH;FMTTYPE=image/png:https://www.cc-paysdevalois.fr/wp-content/uploads/2023/06/affiche-stoik.png
END:VEVENT
END:VCALENDAR