BEGIN:VCALENDAR
VERSION:2.0
PRODID:-//Communauté de Communes du Pays de Valois - ECPv6.15.15//NONSGML v1.0//EN
CALSCALE:GREGORIAN
METHOD:PUBLISH
X-ORIGINAL-URL:https://www.cc-paysdevalois.fr
X-WR-CALDESC:Évènements pour Communauté de Communes du Pays de Valois
REFRESH-INTERVAL;VALUE=DURATION:PT1H
X-Robots-Tag:noindex
X-PUBLISHED-TTL:PT1H
BEGIN:VTIMEZONE
TZID:Europe/Paris
BEGIN:DAYLIGHT
TZOFFSETFROM:+0100
TZOFFSETTO:+0200
TZNAME:CEST
DTSTART:20220327T010000
END:DAYLIGHT
BEGIN:STANDARD
TZOFFSETFROM:+0200
TZOFFSETTO:+0100
TZNAME:CET
DTSTART:20221030T010000
END:STANDARD
BEGIN:DAYLIGHT
TZOFFSETFROM:+0100
TZOFFSETTO:+0200
TZNAME:CEST
DTSTART:20230326T010000
END:DAYLIGHT
BEGIN:STANDARD
TZOFFSETFROM:+0200
TZOFFSETTO:+0100
TZNAME:CET
DTSTART:20231029T010000
END:STANDARD
BEGIN:DAYLIGHT
TZOFFSETFROM:+0100
TZOFFSETTO:+0200
TZNAME:CEST
DTSTART:20240331T010000
END:DAYLIGHT
BEGIN:STANDARD
TZOFFSETFROM:+0200
TZOFFSETTO:+0100
TZNAME:CET
DTSTART:20241027T010000
END:STANDARD
END:VTIMEZONE
BEGIN:VEVENT
DTSTART;TZID=Europe/Paris:20230729T173000
DTEND;TZID=Europe/Paris:20230729T193000
DTSTAMP:20260424T015821
CREATED:20230621T133538Z
LAST-MODIFIED:20230621T133538Z
UID:6623-1690651800-1690659000@www.cc-paysdevalois.fr
SUMMARY:L'Homme V. + Block Party
DESCRIPTION:Pour la dernière de l’été\, “Les Éphémères” vous donnent rendez-vous pour 2 spectacles sur une journée le samedi 29 juillet à partir de 17h30 à Bonneuil-en-Valois (cour de l’école).\nL’Homme V.\nContorsionner le corps jusqu’au déséquilibre\, étirer les ralentis pour accueillir le silence\, la suspension… et arrêter le temps. \nVincent Warin propose une rencontre surprenante avec un vélo BMX. Loin des clichés habituellement empruntés aux cultures urbaines et à cette discipline sportive (dont il fut champion de France et vice-champion du Monde)\, il se sert de l’acrobatie\, de la musique live d’un violoncelle\, de la danse et des contraintes de la mécanique comme autant de sources d’explorations poétiques. Les portés\, les lancers s’enchaînent au rythme des crissements de l’archet\, électrisant le ballet formé par ce couple si assorti. \nBientôt\, l’artiste et la machine ne font plus qu’un ; apparaît alors L’Homme V.\, l’Homme Vélo… \nBlock Party\nInspiré des sonorités urbaines\, du groove et des rythmes typiques des « marching bands » de la Nouvelle-Orléans\, le collectif Radio Kaizman envoie un son percussif et cuivré\, mélange d’influences multiples du jazz au hip-hop\, une mixture qui prend tout son sens en live\, où il excelle. \nReprenant l’idée généreuse des « Block parties » américaines de s’approprier l’espace urbain et d’y créer une fête partagée par tous\, la fanfare propose sa propre Block Party. En ressort une irrésistible envie de rejoindre la Team\, pour qui veut tendre l’oreille et ouvrir les yeux. \nInfos pratiques\nSpectacles gratuits / tout public \nLa soirée se prolongera autour d’un moment convivial organisé par la commune.
URL:https://www.cc-paysdevalois.fr/event/lhomme-v-block-party/
LOCATION:Bonneuil-en-Valois\, cour de l’école\, 5 place de la mairie\, Bonneuil-en-Valois\, 60123
CATEGORIES:Culture,Évènement,Spectacle,Valois terre de Cultures
ATTACH;FMTTYPE=image/png:https://www.cc-paysdevalois.fr/wp-content/uploads/2023/06/affiche-29-07-blockparty.png
END:VEVENT
END:VCALENDAR