BEGIN:VCALENDAR
VERSION:2.0
PRODID:-//Communauté de Communes du Pays de Valois - ECPv6.15.15//NONSGML v1.0//EN
CALSCALE:GREGORIAN
METHOD:PUBLISH
X-WR-CALNAME:Communauté de Communes du Pays de Valois
X-ORIGINAL-URL:https://www.cc-paysdevalois.fr
X-WR-CALDESC:Évènements pour Communauté de Communes du Pays de Valois
REFRESH-INTERVAL;VALUE=DURATION:PT1H
X-Robots-Tag:noindex
X-PUBLISHED-TTL:PT1H
BEGIN:VTIMEZONE
TZID:Europe/Paris
BEGIN:DAYLIGHT
TZOFFSETFROM:+0100
TZOFFSETTO:+0200
TZNAME:CEST
DTSTART:20170326T010000
END:DAYLIGHT
BEGIN:STANDARD
TZOFFSETFROM:+0200
TZOFFSETTO:+0100
TZNAME:CET
DTSTART:20171029T010000
END:STANDARD
BEGIN:DAYLIGHT
TZOFFSETFROM:+0100
TZOFFSETTO:+0200
TZNAME:CEST
DTSTART:20180325T010000
END:DAYLIGHT
BEGIN:STANDARD
TZOFFSETFROM:+0200
TZOFFSETTO:+0100
TZNAME:CET
DTSTART:20181028T010000
END:STANDARD
BEGIN:DAYLIGHT
TZOFFSETFROM:+0100
TZOFFSETTO:+0200
TZNAME:CEST
DTSTART:20190331T010000
END:DAYLIGHT
BEGIN:STANDARD
TZOFFSETFROM:+0200
TZOFFSETTO:+0100
TZNAME:CET
DTSTART:20191027T010000
END:STANDARD
END:VTIMEZONE
BEGIN:VEVENT
DTSTART;TZID=Europe/Paris:20180825T100000
DTEND;TZID=Europe/Paris:20180826T180000
DTSTAMP:20260425T234935
CREATED:20180713T072518Z
LAST-MODIFIED:20180713T073154Z
UID:2244-1535191200-1535306400@www.cc-paysdevalois.fr
SUMMARY:Fête médiévale : Les Cochons de Crépy
DESCRIPTION:La Fête des Cochons est de retour pour sa 22e édition ! \nSaltimbanques\, jongleurs\, troubadours\, cracheurs de feu et magie médiévale enchanteront petits et grands samedi 25 et dimanche 26 août 2018 à Crépy-en-Valois. Durant tout un week-end hors du temps\, artisans seront présents pour vous faire découvrir leur savoir-faire d’antan. \nLe samedi soir\, dès 21h\, le groupe Little Swing enflammera la scène du parc Sainte-Agathe.
URL:https://www.cc-paysdevalois.fr/event/fete-medievale-les-cochons-de-crepy/
LOCATION:Parc Sainte-Agathe\, 7 avenue du Parc\, Crépy-en-Valois\, 60800\, France
CATEGORIES:Festival
ATTACH;FMTTYPE=image/jpeg:https://www.cc-paysdevalois.fr/wp-content/uploads/2018/07/affiche_cochons_crepy_2018.jpg
END:VEVENT
END:VCALENDAR