BEGIN:VCALENDAR
VERSION:2.0
PRODID:-//Communauté de Communes du Pays de Valois - ECPv6.15.15//NONSGML v1.0//EN
CALSCALE:GREGORIAN
METHOD:PUBLISH
X-WR-CALNAME:Communauté de Communes du Pays de Valois
X-ORIGINAL-URL:https://www.cc-paysdevalois.fr
X-WR-CALDESC:Évènements pour Communauté de Communes du Pays de Valois
REFRESH-INTERVAL;VALUE=DURATION:PT1H
X-Robots-Tag:noindex
X-PUBLISHED-TTL:PT1H
BEGIN:VTIMEZONE
TZID:Europe/Paris
BEGIN:DAYLIGHT
TZOFFSETFROM:+0100
TZOFFSETTO:+0200
TZNAME:CEST
DTSTART:20190331T010000
END:DAYLIGHT
BEGIN:STANDARD
TZOFFSETFROM:+0200
TZOFFSETTO:+0100
TZNAME:CET
DTSTART:20191027T010000
END:STANDARD
BEGIN:DAYLIGHT
TZOFFSETFROM:+0100
TZOFFSETTO:+0200
TZNAME:CEST
DTSTART:20200329T010000
END:DAYLIGHT
BEGIN:STANDARD
TZOFFSETFROM:+0200
TZOFFSETTO:+0100
TZNAME:CET
DTSTART:20201025T010000
END:STANDARD
BEGIN:DAYLIGHT
TZOFFSETFROM:+0100
TZOFFSETTO:+0200
TZNAME:CEST
DTSTART:20210328T010000
END:DAYLIGHT
BEGIN:STANDARD
TZOFFSETFROM:+0200
TZOFFSETTO:+0100
TZNAME:CET
DTSTART:20211031T010000
END:STANDARD
END:VTIMEZONE
BEGIN:VEVENT
DTSTART;TZID=Europe/Paris:20200926T110000
DTEND;TZID=Europe/Paris:20200926T230000
DTSTAMP:20260424T174255
CREATED:20200831T135821Z
LAST-MODIFIED:20200918T101122Z
UID:3753-1601118000-1601161200@www.cc-paysdevalois.fr
SUMMARY:[ANNULÉ] Festival de la Voix Verte
DESCRIPTION:Le Festival de la Voix Verte est annulé pour des raisons sanitaires à la demande de la Sous-Préfète de l’Oise. \nLe Festival de la voix Verte vous donne rendez-vous pour sa 3ème édition le samedi 26 septembre 2020 de 11h à 23h sur la Voie Verte du Pays de Valois à Betz.  \nL’artiste Barcella sera la tête d’affiche du festival. Découvrez ou redécouvrez cet artiste atypique et solaire souvent décrit comme virtuose de l’écriture baigné de hip-hop\, de slam et de chanson française.  \nAu programme : musique\, animations\, buvette et restauration\, marché de producteurs locaux… \nParking : 2 €
URL:https://www.cc-paysdevalois.fr/event/festival-de-la-voix-verte-2/
LOCATION:Betz\, Betz\, 60620
CATEGORIES:Concert,Festival
ATTACH;FMTTYPE=image/png:https://www.cc-paysdevalois.fr/wp-content/uploads/2020/08/Festival-annule.png
END:VEVENT
BEGIN:VEVENT
DTSTART;TZID=Europe/Paris:20200926T213000
DTEND;TZID=Europe/Paris:20200926T230000
DTSTAMP:20260424T174255
CREATED:20200831T143751Z
LAST-MODIFIED:20200918T100212Z
UID:3768-1601155800-1601161200@www.cc-paysdevalois.fr
SUMMARY:[ANNULÉ]Barcella au Festival de la Voix Verte
DESCRIPTION:Sur les recommandations de la préfète de l’Oise\, au vu du contexte sanitaire\, nous sommes contraints d’annuler le concert de BARCELLA\, initialement prévu en extérieur le samedi 26 septembre\, à l’occasion de la clôture du Festival de la Voix Verte à Betz\, annulé également.\n********* \nLa saison commence fort avec un artiste connu du Valois\, Barcella\, venu présenter son nouvel album “Soleil” le samedi 26 septembre 2020 à 21h30 au Festival de la Voix Verte dont il sera la tête d’affiche. \nMélangeant le hip-hop\, la chanson et la poésie\, Barcella est un poète 2.0 qui met à l’honneur sa langue natale. C’est un homme de scène accompli qui nous fait passer des rires aux larmes avec finesse et humour tout en jouant avec les mots. Avec plus de 800 concerts à son actif\, il a déjà conquis les scènes des plus grands festivals. Avec sa signature vocale et ses prestations endiablées\, il transporte le public. \nUn spectacle qui entraîne toute la famille et qui vous assure de passer une merveilleuse soirée tous ensemble.
URL:https://www.cc-paysdevalois.fr/event/barcella-au-festival-de-la-voix-verte/
LOCATION:Betz\, Betz\, 60620
CATEGORIES:Chanson,Concert,Festival,Musivales
ATTACH;FMTTYPE=image/jpeg:https://www.cc-paysdevalois.fr/wp-content/uploads/2020/08/aff_BARCELLA_2020-1.jpg
END:VEVENT
END:VCALENDAR