BEGIN:VCALENDAR
VERSION:2.0
PRODID:-//Communauté de Communes du Pays de Valois - ECPv6.15.15//NONSGML v1.0//EN
CALSCALE:GREGORIAN
METHOD:PUBLISH
X-ORIGINAL-URL:https://www.cc-paysdevalois.fr
X-WR-CALDESC:Évènements pour Communauté de Communes du Pays de Valois
REFRESH-INTERVAL;VALUE=DURATION:PT1H
X-Robots-Tag:noindex
X-PUBLISHED-TTL:PT1H
BEGIN:VTIMEZONE
TZID:Europe/Paris
BEGIN:DAYLIGHT
TZOFFSETFROM:+0100
TZOFFSETTO:+0200
TZNAME:CEST
DTSTART:20190331T010000
END:DAYLIGHT
BEGIN:STANDARD
TZOFFSETFROM:+0200
TZOFFSETTO:+0100
TZNAME:CET
DTSTART:20191027T010000
END:STANDARD
BEGIN:DAYLIGHT
TZOFFSETFROM:+0100
TZOFFSETTO:+0200
TZNAME:CEST
DTSTART:20200329T010000
END:DAYLIGHT
BEGIN:STANDARD
TZOFFSETFROM:+0200
TZOFFSETTO:+0100
TZNAME:CET
DTSTART:20201025T010000
END:STANDARD
BEGIN:DAYLIGHT
TZOFFSETFROM:+0100
TZOFFSETTO:+0200
TZNAME:CEST
DTSTART:20210328T010000
END:DAYLIGHT
BEGIN:STANDARD
TZOFFSETFROM:+0200
TZOFFSETTO:+0100
TZNAME:CET
DTSTART:20211031T010000
END:STANDARD
END:VTIMEZONE
BEGIN:VEVENT
DTSTART;VALUE=DATE:20201114
DTEND;VALUE=DATE:20201122
DTSTAMP:20260424T153024
CREATED:20201005T080025Z
LAST-MODIFIED:20201103T093914Z
UID:3880-1605312000-1606003199@www.cc-paysdevalois.fr
SUMMARY:Festival Jazz en Valois [ANNULÉ]
DESCRIPTION:Suite au décret n° 2020-1310 du 29 octobre 2020\, dans le cadre du confinement national pour lutter contre la propagation du virus\, nous sommes malheureusement contraints d’annuler plusieurs spectacles des Musivales.\n  \nDécouvrez la programmation de cette édition du Festival Jazz en Valois 2020 :\nSamedi 14 novembre à 20h30 à Neufchelles (salle des fêtes) : OLIVIER GOTTI\, A WAY TO WIN\nOlivier Gotti nous propose\, dans son spectacle\, de (re)découvrir son deuxième album The way to win inspiré par la réalité d’un monde inégal et injuste. Il y mélange racines et innovations rythmiques\, ce qui nous offre de purs moments suspendus dans le temps. Toujours fidèle à sa guitare\, il nous fait passer ses émotions tel qu’elles sont entre le blues classique et une touche de modernité.\n« Le blues est une musique qui appartient à tout le monde » Olivier Gotti \nTARIF D : 10€ DURÉE : 1H20 SPECTACLE ASSIS \nDimanche 15 novembre à 20h30 à Crépy-en-Valois (centre culturel mjc) : BAPTISTE TROTIGNON\, CONCERT SOLO\nPlongé dans la musique depuis son adolescence\, Baptiste Trotignon a toujours été accompagné d’un désir d’écrire de la musique.\nArtiste de talent\, récompensé par de nombreux titres comme la « Révélation Française 2003 Victoires du Jazz »\, il collabore avec plusieurs artistes comme Joe Lovano et Camélia Jordana pour son nouvel album You’ve change. Il nous en dévoile plus sur son univers jazz et sur lui-même dans cet album et dans son spectacle. \nYou’ve changed vous est proposé comme le miroir d’une période où il a changé pour aborder la deuxième partie de sa vie. \nTARIF DÉCOUVERTE : 10 € DURÉE : 1H20 SPECTACLE ASSIS \nSamedi 21 novembre à 20h30 à Le Plessis-Belleville (auditorium EGB) : TRIO BROTCHO\nTrois artistes de talent réunis pour un trio : Le Trio Brotcho. Le Trio Brotcho interprète un mix de chansons française et de standards manouche-et tzigane avec un violon\, une contrebasse\, des guitares et leurs voix. Jean-Baptiste Frugier\, Hervé Pouliquen et Luc Alenvers vous propose dans leur spectacle du swing\, de la fraîcheur et de l’improvisation virtuose. \n Les trois compères vous invitent à découvrir chansons\, airs tziganes et manouches revisités à la sauce swing de Brotcho. \nTARIF DÉCOUVERTE : 10€ DURÉE : 1H10 SPECTACLE ASSIS \n  \nSous réserve de l’évolution des mesures sanitaires. \n 
URL:https://www.cc-paysdevalois.fr/event/festival-jazz-en-valois/
CATEGORIES:Concert,Festival,Musivales
ATTACH;FMTTYPE=image/jpeg:https://www.cc-paysdevalois.fr/wp-content/uploads/2020/10/jAZZ-EN-VALOIS_vf_annule.jpg
END:VEVENT
END:VCALENDAR