BEGIN:VCALENDAR
VERSION:2.0
PRODID:-//Communauté de Communes du Pays de Valois - ECPv6.15.15//NONSGML v1.0//EN
CALSCALE:GREGORIAN
METHOD:PUBLISH
X-ORIGINAL-URL:https://www.cc-paysdevalois.fr
X-WR-CALDESC:Évènements pour Communauté de Communes du Pays de Valois
REFRESH-INTERVAL;VALUE=DURATION:PT1H
X-Robots-Tag:noindex
X-PUBLISHED-TTL:PT1H
BEGIN:VTIMEZONE
TZID:Europe/Paris
BEGIN:DAYLIGHT
TZOFFSETFROM:+0100
TZOFFSETTO:+0200
TZNAME:CEST
DTSTART:20200329T010000
END:DAYLIGHT
BEGIN:STANDARD
TZOFFSETFROM:+0200
TZOFFSETTO:+0100
TZNAME:CET
DTSTART:20201025T010000
END:STANDARD
BEGIN:DAYLIGHT
TZOFFSETFROM:+0100
TZOFFSETTO:+0200
TZNAME:CEST
DTSTART:20210328T010000
END:DAYLIGHT
BEGIN:STANDARD
TZOFFSETFROM:+0200
TZOFFSETTO:+0100
TZNAME:CET
DTSTART:20211031T010000
END:STANDARD
BEGIN:DAYLIGHT
TZOFFSETFROM:+0100
TZOFFSETTO:+0200
TZNAME:CEST
DTSTART:20220327T010000
END:DAYLIGHT
BEGIN:STANDARD
TZOFFSETFROM:+0200
TZOFFSETTO:+0100
TZNAME:CET
DTSTART:20221030T010000
END:STANDARD
END:VTIMEZONE
BEGIN:VEVENT
DTSTART;TZID=Europe/Paris:20211016T160000
DTEND;TZID=Europe/Paris:20211016T233000
DTSTAMP:20260424T015306
CREATED:20210917T121442Z
LAST-MODIFIED:20210917T121442Z
UID:4886-1634400000-1634427000@www.cc-paysdevalois.fr
SUMMARY:17e édition de Jours de fêtes
DESCRIPTION:Ne manquez pas la 17e édition de Jours de fêtes le samedi 16 octobre 2021 à partir de 16h à Bonneuil-en-Valois. \nAu programme\n\nConcerts : Jim purple memorial\, Easy Noise\, Aux Cuivres citoyens\, Fanfarasca\nThéâtre de rue : Cie Caribou\, Cie Hydragon\, Theater Gili Gili\, Cie Lombric Spaghetti.\nBuvette\, restauration\, marché local.\n\nInfos pratiques\nEntrée gratuite. Pass sanitaire obligatoire.
URL:https://www.cc-paysdevalois.fr/event/17e-edition-de-jours-de-fetes/
LOCATION:Bonneuil-en-Valois\, Rue de la mairie
CATEGORIES:Festival,Fête citoyenne
ATTACH;FMTTYPE=image/jpeg:https://www.cc-paysdevalois.fr/wp-content/uploads/2021/09/Jour-de-fete-2021.jpg
END:VEVENT
END:VCALENDAR