BEGIN:VCALENDAR
VERSION:2.0
PRODID:-//Communauté de Communes du Pays de Valois - ECPv6.15.15//NONSGML v1.0//EN
CALSCALE:GREGORIAN
METHOD:PUBLISH
X-WR-CALNAME:Communauté de Communes du Pays de Valois
X-ORIGINAL-URL:https://www.cc-paysdevalois.fr
X-WR-CALDESC:Évènements pour Communauté de Communes du Pays de Valois
REFRESH-INTERVAL;VALUE=DURATION:PT1H
X-Robots-Tag:noindex
X-PUBLISHED-TTL:PT1H
BEGIN:VTIMEZONE
TZID:Europe/Paris
BEGIN:DAYLIGHT
TZOFFSETFROM:+0100
TZOFFSETTO:+0200
TZNAME:CEST
DTSTART:20170326T010000
END:DAYLIGHT
BEGIN:STANDARD
TZOFFSETFROM:+0200
TZOFFSETTO:+0100
TZNAME:CET
DTSTART:20171029T010000
END:STANDARD
BEGIN:DAYLIGHT
TZOFFSETFROM:+0100
TZOFFSETTO:+0200
TZNAME:CEST
DTSTART:20180325T010000
END:DAYLIGHT
BEGIN:STANDARD
TZOFFSETFROM:+0200
TZOFFSETTO:+0100
TZNAME:CET
DTSTART:20181028T010000
END:STANDARD
BEGIN:DAYLIGHT
TZOFFSETFROM:+0100
TZOFFSETTO:+0200
TZNAME:CEST
DTSTART:20190331T010000
END:DAYLIGHT
BEGIN:STANDARD
TZOFFSETFROM:+0200
TZOFFSETTO:+0100
TZNAME:CET
DTSTART:20191027T010000
END:STANDARD
END:VTIMEZONE
BEGIN:VEVENT
DTSTART;VALUE=DATE:20180411
DTEND;VALUE=DATE:20180419
DTSTAMP:20260426T053300
CREATED:20180327T122114Z
LAST-MODIFIED:20180406T133028Z
UID:1937-1523404800-1524095999@www.cc-paysdevalois.fr
SUMMARY:Festival Des Livres & Vous
DESCRIPTION:Pour cette 20e édition\, le collectif met tout en oeuvre pour faire voyager son public à travers la thématique « Des Mots\, Des Mondes ».\nSpectacles\, concerts\, ateliers\, vous découvrirez des animations autour du voyage\, des mondes éphémères… Et cette année\, des auteurs illustrateurs viendront à votre rencontre.\nOuvert à tous\, le festival est aussi l’occasion pour les écoles du territoire d’assister aux expositions et aux spectacles. \nInauguration : Mercredi 11 avril à 19h \nLe salon des auteurs-illustrateurs \nSamedi 14 avril\, rencontrez 9 professionnels du livre sur Des Livres & Vous. Vous pourrez acheter leurs ouvrages et les faire dédicacer. \nRenseignements :\nTéléchargez le programme au format PDF. \nHoraires d’ouverture : Le samedi de 10h à 12h et de 14h30 à 17h30.\nLes autres jours de la semaine de 10h30 à 12h et de 15h30 à 17h30.\nAccès libre et gratuit.\nProgramme sur :\nwww.crepyenvalois.fr/FDLV2018\nFacebook : @festivaldeslivresetvous\nTwitter : @FDLetV
URL:https://www.cc-paysdevalois.fr/event/20e-edition-du-festival-des-livres-vous/
LOCATION:Salle Bernard-Kindraich\, Crépy-en-Valois\, 11 rue Hector Berlioz\, Crépy-en-Valois\, 60800\, France
CATEGORIES:Exposition,Festival,Spectacle
ATTACH;FMTTYPE=image/jpeg:https://www.cc-paysdevalois.fr/wp-content/uploads/2018/03/DLV-VISUEL-2018.jpg
END:VEVENT
END:VCALENDAR