BEGIN:VCALENDAR
VERSION:2.0
PRODID:-//Communauté de Communes du Pays de Valois - ECPv6.15.15//NONSGML v1.0//EN
CALSCALE:GREGORIAN
METHOD:PUBLISH
X-ORIGINAL-URL:https://www.cc-paysdevalois.fr
X-WR-CALDESC:Évènements pour Communauté de Communes du Pays de Valois
REFRESH-INTERVAL;VALUE=DURATION:PT1H
X-Robots-Tag:noindex
X-PUBLISHED-TTL:PT1H
BEGIN:VTIMEZONE
TZID:Europe/Paris
BEGIN:DAYLIGHT
TZOFFSETFROM:+0100
TZOFFSETTO:+0200
TZNAME:CEST
DTSTART:20210328T010000
END:DAYLIGHT
BEGIN:STANDARD
TZOFFSETFROM:+0200
TZOFFSETTO:+0100
TZNAME:CET
DTSTART:20211031T010000
END:STANDARD
BEGIN:DAYLIGHT
TZOFFSETFROM:+0100
TZOFFSETTO:+0200
TZNAME:CEST
DTSTART:20220327T010000
END:DAYLIGHT
BEGIN:STANDARD
TZOFFSETFROM:+0200
TZOFFSETTO:+0100
TZNAME:CET
DTSTART:20221030T010000
END:STANDARD
BEGIN:DAYLIGHT
TZOFFSETFROM:+0100
TZOFFSETTO:+0200
TZNAME:CEST
DTSTART:20230326T010000
END:DAYLIGHT
BEGIN:STANDARD
TZOFFSETFROM:+0200
TZOFFSETTO:+0100
TZNAME:CET
DTSTART:20231029T010000
END:STANDARD
END:VTIMEZONE
BEGIN:VEVENT
DTSTART;VALUE=DATE:20220930
DTEND;VALUE=DATE:20221003
DTSTAMP:20260423T112657
CREATED:20220921T125751Z
LAST-MODIFIED:20220922T070426Z
UID:6079-1664496000-1664755199@www.cc-paysdevalois.fr
SUMMARY:Festival Danses en fête
DESCRIPTION:Célébration de la danse sous toutes ses formes avec des artistes professionnels et amateurs\, la première édition du festival Danses en fête organisée par le Conseil départemental de l’Oise aura lieu du 30 septembre au 2 octobre 2022. \nNe manquez pas les nombreux spectacles\, proposés sur plusieurs sites de la Communauté de Communes du Pays de Valois et initiez-vous à travers les stages gratuits. \nEntrée gratuite. \nDécouvrez le programme sur www.oise.fr \n 
URL:https://www.cc-paysdevalois.fr/event/festival-danses-en-fete/
LOCATION:Pays de Valois
CATEGORIES:Festival
ATTACH;FMTTYPE=image/jpeg:https://www.cc-paysdevalois.fr/wp-content/uploads/2022/09/Danse-en-fete_programme_A5-BIS-BD_Page_1.jpg
END:VEVENT
END:VCALENDAR