BEGIN:VCALENDAR
VERSION:2.0
PRODID:-//Communauté de Communes du Pays de Valois - ECPv6.15.15//NONSGML v1.0//EN
CALSCALE:GREGORIAN
METHOD:PUBLISH
X-ORIGINAL-URL:https://www.cc-paysdevalois.fr
X-WR-CALDESC:Évènements pour Communauté de Communes du Pays de Valois
REFRESH-INTERVAL;VALUE=DURATION:PT1H
X-Robots-Tag:noindex
X-PUBLISHED-TTL:PT1H
BEGIN:VTIMEZONE
TZID:Europe/Paris
BEGIN:DAYLIGHT
TZOFFSETFROM:+0100
TZOFFSETTO:+0200
TZNAME:CEST
DTSTART:20200329T010000
END:DAYLIGHT
BEGIN:STANDARD
TZOFFSETFROM:+0200
TZOFFSETTO:+0100
TZNAME:CET
DTSTART:20201025T010000
END:STANDARD
BEGIN:DAYLIGHT
TZOFFSETFROM:+0100
TZOFFSETTO:+0200
TZNAME:CEST
DTSTART:20210328T010000
END:DAYLIGHT
BEGIN:STANDARD
TZOFFSETFROM:+0200
TZOFFSETTO:+0100
TZNAME:CET
DTSTART:20211031T010000
END:STANDARD
BEGIN:DAYLIGHT
TZOFFSETFROM:+0100
TZOFFSETTO:+0200
TZNAME:CEST
DTSTART:20220327T010000
END:DAYLIGHT
BEGIN:STANDARD
TZOFFSETFROM:+0200
TZOFFSETTO:+0100
TZNAME:CET
DTSTART:20221030T010000
END:STANDARD
BEGIN:DAYLIGHT
TZOFFSETFROM:+0100
TZOFFSETTO:+0200
TZNAME:CEST
DTSTART:20230326T010000
END:DAYLIGHT
BEGIN:STANDARD
TZOFFSETFROM:+0200
TZOFFSETTO:+0100
TZNAME:CET
DTSTART:20231029T010000
END:STANDARD
END:VTIMEZONE
BEGIN:VEVENT
DTSTART;VALUE=DATE:20211204
DTEND;VALUE=DATE:20220103
DTSTAMP:20260424T074323
CREATED:20211126T140645Z
LAST-MODIFIED:20211126T140645Z
UID:5141-1638576000-1641167999@www.cc-paysdevalois.fr
SUMMARY:Crépy-Glisse : la patinoire de Noël
DESCRIPTION:Du 4 décembre au 2 janvier\, ça glisse à Crépy !\nLa patinoire de Noel signe son retour depuis le Cour Foch à Crépy-en-Valois et c’est le moment de chausser vos patins ! Pendant ces quatre semaines\, petits et grands pourront s’essayer au patinage amateur… ou montrer leurs talents d’experts. \nInfos pratiques\n\n\nPass sanitaire obligatoire à l’entrée de la patinoire.\n\n \ncre
URL:https://www.cc-paysdevalois.fr/event/crepy-glisse-la-patinoire-de-noel-2/
LOCATION:Crépy-en-Valois\, Crépy-en-Valois\, 60800
CATEGORIES:Animation enfants,Loisirs
ATTACH;FMTTYPE=image/jpeg:https://www.cc-paysdevalois.fr/wp-content/uploads/2021/11/flyer-patinoire-2021-page-001-scaled-1.jpg
END:VEVENT
END:VCALENDAR