BEGIN:VCALENDAR
VERSION:2.0
PRODID:-//Communauté de Communes du Pays de Valois - ECPv6.15.15//NONSGML v1.0//EN
CALSCALE:GREGORIAN
METHOD:PUBLISH
X-WR-CALNAME:Communauté de Communes du Pays de Valois
X-ORIGINAL-URL:https://www.cc-paysdevalois.fr
X-WR-CALDESC:Évènements pour Communauté de Communes du Pays de Valois
REFRESH-INTERVAL;VALUE=DURATION:PT1H
X-Robots-Tag:noindex
X-PUBLISHED-TTL:PT1H
BEGIN:VTIMEZONE
TZID:Europe/Paris
BEGIN:DAYLIGHT
TZOFFSETFROM:+0100
TZOFFSETTO:+0200
TZNAME:CEST
DTSTART:20170326T010000
END:DAYLIGHT
BEGIN:STANDARD
TZOFFSETFROM:+0200
TZOFFSETTO:+0100
TZNAME:CET
DTSTART:20171029T010000
END:STANDARD
BEGIN:DAYLIGHT
TZOFFSETFROM:+0100
TZOFFSETTO:+0200
TZNAME:CEST
DTSTART:20180325T010000
END:DAYLIGHT
BEGIN:STANDARD
TZOFFSETFROM:+0200
TZOFFSETTO:+0100
TZNAME:CET
DTSTART:20181028T010000
END:STANDARD
BEGIN:DAYLIGHT
TZOFFSETFROM:+0100
TZOFFSETTO:+0200
TZNAME:CEST
DTSTART:20190331T010000
END:DAYLIGHT
BEGIN:STANDARD
TZOFFSETFROM:+0200
TZOFFSETTO:+0100
TZNAME:CET
DTSTART:20191027T010000
END:STANDARD
END:VTIMEZONE
BEGIN:VEVENT
DTSTART;TZID=Europe/Paris:20180921T203000
DTEND;TZID=Europe/Paris:20180921T220000
DTSTAMP:20260426T063317
CREATED:20180829T125618Z
LAST-MODIFIED:20180829T151804Z
UID:2332-1537561800-1537567200@www.cc-paysdevalois.fr
SUMMARY:MUSIVALES : Le grand blond et l'accordéoniste
DESCRIPTION:Vendredi 21 septembre 2018\, pour l’ouverture de la saison\, les Musivales vous présentent “Le grand blond et l’accordéoniste” où Florent Richard vous interprétera ses chansons au piano accompagné de Roland Romanelli à l’accordéon. \nINFOS PRATIQUES\nPlein tarif : 14 €\nTarif réduit et tarif de groupe : 12 €\nEnfant – de 10 ans : gratuit\nDurée : 1h20 – concert assis \nPlus d’info sur www.musivales.fr \n 
URL:https://www.cc-paysdevalois.fr/event/musivales-le-grand-blond-et-laccordeoniste/
LOCATION:Eglise Saint-Martin\, Rue Tony Beauquesne\, Autheuil-en-Valois\, 60890\, France
CATEGORIES:Chanson,Musivales
ATTACH;FMTTYPE=image/jpeg:https://www.cc-paysdevalois.fr/wp-content/uploads/2018/08/Affiche_MSVL_Le-grand-blond-et-laccordéoniste_Page_2.jpg
END:VEVENT
END:VCALENDAR