BEGIN:VCALENDAR
VERSION:2.0
PRODID:-//Communauté de Communes du Pays de Valois - ECPv6.15.15//NONSGML v1.0//EN
CALSCALE:GREGORIAN
METHOD:PUBLISH
X-ORIGINAL-URL:https://www.cc-paysdevalois.fr
X-WR-CALDESC:Évènements pour Communauté de Communes du Pays de Valois
REFRESH-INTERVAL;VALUE=DURATION:PT1H
X-Robots-Tag:noindex
X-PUBLISHED-TTL:PT1H
BEGIN:VTIMEZONE
TZID:Europe/Paris
BEGIN:DAYLIGHT
TZOFFSETFROM:+0100
TZOFFSETTO:+0200
TZNAME:CEST
DTSTART:20180325T010000
END:DAYLIGHT
BEGIN:STANDARD
TZOFFSETFROM:+0200
TZOFFSETTO:+0100
TZNAME:CET
DTSTART:20181028T010000
END:STANDARD
BEGIN:DAYLIGHT
TZOFFSETFROM:+0100
TZOFFSETTO:+0200
TZNAME:CEST
DTSTART:20190331T010000
END:DAYLIGHT
BEGIN:STANDARD
TZOFFSETFROM:+0200
TZOFFSETTO:+0100
TZNAME:CET
DTSTART:20191027T010000
END:STANDARD
BEGIN:DAYLIGHT
TZOFFSETFROM:+0100
TZOFFSETTO:+0200
TZNAME:CEST
DTSTART:20200329T010000
END:DAYLIGHT
BEGIN:STANDARD
TZOFFSETFROM:+0200
TZOFFSETTO:+0100
TZNAME:CET
DTSTART:20201025T010000
END:STANDARD
END:VTIMEZONE
BEGIN:VEVENT
DTSTART;TZID=Europe/Paris:20190525T203000
DTEND;TZID=Europe/Paris:20190525T223000
DTSTAMP:20260425T213605
CREATED:20190503T121150Z
LAST-MODIFIED:20190515T130402Z
UID:2703-1558816200-1558823400@www.cc-paysdevalois.fr
SUMMARY:Musivales : La Phèdre éternelle
DESCRIPTION:Découvrez la nouvelle création théâtrale de la compagnie de la fortune – Théâtre en soi “La Phèdre éternelle” d’après la tragédie de Jean Racine\, les samedi 25 et dimanche 26 mai au centre culturel mjc à Crépy-en-Valois. \nFigure emblématique de la mythologie grecque et des tragédies de Racine\, Phèdre est envahie d’une passion violente et illégitime envers son beau-fils Hippolyte. Passant du registre de la noirceur à celui du remords\, de la violence la plus obscure à des grands moments de lucidité\, il y a en elle une conscience morale et un repentir de la faute. \n\n« Phèdre n’est ni tout à fait coupable\, ni tout à fait innocente. Elle est engagée\, par sa destinée et par la colère des dieux\, dans une passion illégitime\, dont elle a horreur toute la première » Jean Racine – 1677 \n\n\n« Et si à la lumière de notre siècle\, nous offrions à Phèdre une possibilité de rédemption derrière le voile de la mort ? » Hélène Laurca \nINFOS PRATIQUES \nTarif  : 14 € – Tarif réduit : 12 €
URL:https://www.cc-paysdevalois.fr/event/musivales-la-phedre-eternelle/
LOCATION:Centre culturel mjc Crépy-en-Valois\, 1 avenue de l'Europe\, Crépy-en-Valois\, 60800\, France
CATEGORIES:Musivales,Théâtre
ATTACH;FMTTYPE=image/jpeg:https://www.cc-paysdevalois.fr/wp-content/uploads/2019/05/Affiche_Phèdre-Moyen.jpg
END:VEVENT
END:VCALENDAR