BEGIN:VCALENDAR
VERSION:2.0
PRODID:-//Communauté de Communes du Pays de Valois - ECPv6.15.15//NONSGML v1.0//EN
CALSCALE:GREGORIAN
METHOD:PUBLISH
X-ORIGINAL-URL:https://www.cc-paysdevalois.fr
X-WR-CALDESC:Évènements pour Communauté de Communes du Pays de Valois
REFRESH-INTERVAL;VALUE=DURATION:PT1H
X-Robots-Tag:noindex
X-PUBLISHED-TTL:PT1H
BEGIN:VTIMEZONE
TZID:Europe/Paris
BEGIN:DAYLIGHT
TZOFFSETFROM:+0100
TZOFFSETTO:+0200
TZNAME:CEST
DTSTART:20170326T010000
END:DAYLIGHT
BEGIN:STANDARD
TZOFFSETFROM:+0200
TZOFFSETTO:+0100
TZNAME:CET
DTSTART:20171029T010000
END:STANDARD
BEGIN:DAYLIGHT
TZOFFSETFROM:+0100
TZOFFSETTO:+0200
TZNAME:CEST
DTSTART:20180325T010000
END:DAYLIGHT
BEGIN:STANDARD
TZOFFSETFROM:+0200
TZOFFSETTO:+0100
TZNAME:CET
DTSTART:20181028T010000
END:STANDARD
BEGIN:DAYLIGHT
TZOFFSETFROM:+0100
TZOFFSETTO:+0200
TZNAME:CEST
DTSTART:20190331T010000
END:DAYLIGHT
BEGIN:STANDARD
TZOFFSETFROM:+0200
TZOFFSETTO:+0100
TZNAME:CET
DTSTART:20191027T010000
END:STANDARD
END:VTIMEZONE
BEGIN:VEVENT
DTSTART;TZID=Europe/Paris:20181006T203000
DTEND;TZID=Europe/Paris:20181006T220000
DTSTAMP:20260426T063550
CREATED:20180905T144621Z
LAST-MODIFIED:20180906T125034Z
UID:2358-1538857800-1538863200@www.cc-paysdevalois.fr
SUMMARY:MUSIVALES : Requiem de Fauré
DESCRIPTION:À l’occasion du Festival des 35 clochers en Vallée de l’Automne\, ne ratez pas le samedi 6 octobre à 20h30 plus de 100 musiciens et choristes réunis dans le chœur de l’église Saint-Denis à Crépy-en-Valois ! \nÉcouter le Requiem de Gabriel Fauré donne une impression de douceur\, mais aussi de gravité et de sérénité. Gabriel Fauré caractérisait ainsi son oeuvre : simplicité et modestie mais aussi recueillement et mystère devant la mort. Il a délibérément renoncé aux effets spectaculaires\, à la terreur : il y a ici une douce résignation\, comme une délivrance attendue. \nMusivales +\n\nEt retrouvez également l’Ensemble Eclisse à Séry-Magneval le dimanche 7 octobre à 17h.\nLe programme complet des 35 clochers en Vallée de l’Automne est à retrouver sur www.valois-tourisme.com \nL’école de musique du Valois propose une conférence explicative du requiem de Fauré le samedi 6 octobre à 14h au Musée de l’archerie et du Valois.
URL:https://www.cc-paysdevalois.fr/event/musivales-requiem-de-faure/
LOCATION:Eglise Saint-Denis\, 24 rue Saint-Denis\, Crépy-en-Valois\, 60800\, France
CATEGORIES:musique classique,Musivales
ATTACH;FMTTYPE=image/jpeg:https://www.cc-paysdevalois.fr/wp-content/uploads/2018/09/Requiem-de-Fauré_affiche-Moyen.jpg
END:VEVENT
END:VCALENDAR