BEGIN:VCALENDAR
VERSION:2.0
PRODID:-//Communauté de Communes du Pays de Valois - ECPv6.15.15//NONSGML v1.0//EN
CALSCALE:GREGORIAN
METHOD:PUBLISH
X-ORIGINAL-URL:https://www.cc-paysdevalois.fr
X-WR-CALDESC:Évènements pour Communauté de Communes du Pays de Valois
REFRESH-INTERVAL;VALUE=DURATION:PT1H
X-Robots-Tag:noindex
X-PUBLISHED-TTL:PT1H
BEGIN:VTIMEZONE
TZID:Europe/Paris
BEGIN:DAYLIGHT
TZOFFSETFROM:+0100
TZOFFSETTO:+0200
TZNAME:CEST
DTSTART:20170326T010000
END:DAYLIGHT
BEGIN:STANDARD
TZOFFSETFROM:+0200
TZOFFSETTO:+0100
TZNAME:CET
DTSTART:20171029T010000
END:STANDARD
BEGIN:DAYLIGHT
TZOFFSETFROM:+0100
TZOFFSETTO:+0200
TZNAME:CEST
DTSTART:20180325T010000
END:DAYLIGHT
BEGIN:STANDARD
TZOFFSETFROM:+0200
TZOFFSETTO:+0100
TZNAME:CET
DTSTART:20181028T010000
END:STANDARD
BEGIN:DAYLIGHT
TZOFFSETFROM:+0100
TZOFFSETTO:+0200
TZNAME:CEST
DTSTART:20190331T010000
END:DAYLIGHT
BEGIN:STANDARD
TZOFFSETFROM:+0200
TZOFFSETTO:+0100
TZNAME:CET
DTSTART:20191027T010000
END:STANDARD
END:VTIMEZONE
BEGIN:VEVENT
DTSTART;TZID=Europe/Paris:20181013T203000
DTEND;TZID=Europe/Paris:20181013T223000
DTSTAMP:20260426T063550
CREATED:20181004T113320Z
LAST-MODIFIED:20181004T113320Z
UID:2404-1539462600-1539469800@www.cc-paysdevalois.fr
SUMMARY:MUSIVALES : Ce que le jour doit à la nuit
DESCRIPTION:À l’occasion de son vingtième anniversaire\, L’Usine à Danses vous propose “Ce que le jour doit à la nuit” par la compagnie Hervé Koubi\, le samedi 13 octobre à 20h30 au centre culturel mjc à Crépy-en-Valois. La compagnie junior de l’association ouvrira le spectacle. \nAccompagné de ses douze danseurs venus de la danse de rue et du hip-hop\, le chorégraphe Hervé Koubi s’inspire des origines supposées de la dentelle venue d’Orient. Cette compagnie représente à travers leurs mouvements leur histoire et géographie commune\, soit cette Algérie qui les a réunis et unis. \n« Créer la matière chorégraphique en définissant les cadres d’un enjeu où l’espace et le temps seraient les outils\, où le mouvement dansé serait le fil\, où la construction chorégraphique serait un enchevêtrement\, mieux le tissage complexe aboutissant à un travail comparable à celui d’une dentelle : une partition. » \n\n\n\n\nINFOS PRATIQUES\n\n\nPlein tarif : 15 € (10 € adhérents à L’Usine à danses) \nHORS ABONNEMENT MUSIVALES\nBilletterie à L’Usine à danses : 03 44 59 26 96.
URL:https://www.cc-paysdevalois.fr/event/musivales-ce-que-le-jour-doit-a-la-nuit/
LOCATION:Centre culturel mjc Crépy-en-Valois\, 1 avenue de l'Europe\, Crépy-en-Valois\, 60800\, France
CATEGORIES:Danse,Musivales,Spectacle
ATTACH;FMTTYPE=image/jpeg:https://www.cc-paysdevalois.fr/wp-content/uploads/2018/10/Ce-que-le-jour-doit-à-la-nuit-affiche-vf_Page_1-Petit.jpg
END:VEVENT
END:VCALENDAR