BEGIN:VCALENDAR
VERSION:2.0
PRODID:-//Communauté de Communes du Pays de Valois - ECPv6.15.15//NONSGML v1.0//EN
CALSCALE:GREGORIAN
METHOD:PUBLISH
X-ORIGINAL-URL:https://www.cc-paysdevalois.fr
X-WR-CALDESC:Évènements pour Communauté de Communes du Pays de Valois
REFRESH-INTERVAL;VALUE=DURATION:PT1H
X-Robots-Tag:noindex
X-PUBLISHED-TTL:PT1H
BEGIN:VTIMEZONE
TZID:Europe/Paris
BEGIN:DAYLIGHT
TZOFFSETFROM:+0100
TZOFFSETTO:+0200
TZNAME:CEST
DTSTART:20170326T010000
END:DAYLIGHT
BEGIN:STANDARD
TZOFFSETFROM:+0200
TZOFFSETTO:+0100
TZNAME:CET
DTSTART:20171029T010000
END:STANDARD
BEGIN:DAYLIGHT
TZOFFSETFROM:+0100
TZOFFSETTO:+0200
TZNAME:CEST
DTSTART:20180325T010000
END:DAYLIGHT
BEGIN:STANDARD
TZOFFSETFROM:+0200
TZOFFSETTO:+0100
TZNAME:CET
DTSTART:20181028T010000
END:STANDARD
BEGIN:DAYLIGHT
TZOFFSETFROM:+0100
TZOFFSETTO:+0200
TZNAME:CEST
DTSTART:20190331T010000
END:DAYLIGHT
BEGIN:STANDARD
TZOFFSETFROM:+0200
TZOFFSETTO:+0100
TZNAME:CET
DTSTART:20191027T010000
END:STANDARD
END:VTIMEZONE
BEGIN:VEVENT
DTSTART;TZID=Europe/Paris:20181111T160000
DTEND;TZID=Europe/Paris:20181111T180000
DTSTAMP:20260426T053039
CREATED:20181008T120044Z
LAST-MODIFIED:20181029T103739Z
UID:2412-1541952000-1541959200@www.cc-paysdevalois.fr
SUMMARY:MUSIVALES : 14-18\, une histoire de la Grande Guerre
DESCRIPTION:Dimanche 11 novembre à 16h\, ne manquez pas la représentation exceptionnelle de l’intégralité de la trilogie écrite par Hélène Laurca\, avec le soutien de l’Office de tourisme du Pays de Valois\, à partir d’archives et de témoignages locaux qui raconte\, au travers de 7 personnages\, la vie à l’arrière mais aussi sur le front. \nÉté 14\, des moissons et des hommes\nLes hommes sont au front. Les femmes se mobilisent et se réunissent pour faire face aux réalités de cette guerre. Comment “vivre”\, quand les jeunes amoureux vont être séparés\, lorsque des familles se retrouvent amputées. Autour des lavoirs\, des églises et des places\, les liens se font et se défont. \n1916-1917\, peinture des années sombres\nLe conflit dure et s’enlise. L’heure est à la guerre des tranchées\, à la guerre totale. Les femmes de l’arrière tremblent pour leur soldat mais elles relèvent des défis incessants et font face. Elles travaillent à l’effort de guerre\, elles accueillent les permissionnaires\, les soldats des colonies\, les blessés…\nIl faudra tenir alors que les grandes batailles de Verdun\, de la Somme et du Chemin des dames se profilent à l’horizon. \n1918-1919\, la Paix retrouvée…\nLe général Mangin séjourne au château de Versigny. Les Américains entrent en guerre et les combats se poursuivent jusqu’à ce que la victoire commence à se profiler. Ce sera le retour des soldats encore vivants\, tandis que certains se retrouvent sur le front russe. Et ce fameux traité de Versailles lourd de conséquences. \n\n\n\n\nÉvénement organisé par la CCPV et la Ville de Crépy-en-Valois. \n\n\nPlaces à retirer à l’accueil de la Mairie\, au Musée de l’archerie et du Valois ou à l’Office de Tourisme du Pays de Valois. \nLe programme complet des célébrations du centenaire est à retrouver sur le site de l’Office de Tourisme : www.valois-tourisme.com
URL:https://www.cc-paysdevalois.fr/event/musivales-14-18-une-histoire-de-la-grande-guerre/
LOCATION:Salle Marcel Quentin\, Crépy-en-Valois\, 71 rue Marie Rotsen\, Crépy-en-Valois\, 60800\, France
CATEGORIES:Musivales,Théâtre
ATTACH;FMTTYPE=image/jpeg:https://www.cc-paysdevalois.fr/wp-content/uploads/2018/10/14-18-une-histoire-de-la-grande-guerre_affiche-Moyen.jpg
END:VEVENT
END:VCALENDAR