BEGIN:VCALENDAR
VERSION:2.0
PRODID:-//Communauté de Communes du Pays de Valois - ECPv6.15.15//NONSGML v1.0//EN
CALSCALE:GREGORIAN
METHOD:PUBLISH
X-ORIGINAL-URL:https://www.cc-paysdevalois.fr
X-WR-CALDESC:Évènements pour Communauté de Communes du Pays de Valois
REFRESH-INTERVAL;VALUE=DURATION:PT1H
X-Robots-Tag:noindex
X-PUBLISHED-TTL:PT1H
BEGIN:VTIMEZONE
TZID:Europe/Paris
BEGIN:DAYLIGHT
TZOFFSETFROM:+0100
TZOFFSETTO:+0200
TZNAME:CEST
DTSTART:20170326T010000
END:DAYLIGHT
BEGIN:STANDARD
TZOFFSETFROM:+0200
TZOFFSETTO:+0100
TZNAME:CET
DTSTART:20171029T010000
END:STANDARD
BEGIN:DAYLIGHT
TZOFFSETFROM:+0100
TZOFFSETTO:+0200
TZNAME:CEST
DTSTART:20180325T010000
END:DAYLIGHT
BEGIN:STANDARD
TZOFFSETFROM:+0200
TZOFFSETTO:+0100
TZNAME:CET
DTSTART:20181028T010000
END:STANDARD
BEGIN:DAYLIGHT
TZOFFSETFROM:+0100
TZOFFSETTO:+0200
TZNAME:CEST
DTSTART:20190331T010000
END:DAYLIGHT
BEGIN:STANDARD
TZOFFSETFROM:+0200
TZOFFSETTO:+0100
TZNAME:CET
DTSTART:20191027T010000
END:STANDARD
END:VTIMEZONE
BEGIN:VEVENT
DTSTART;TZID=Europe/Paris:20181201T203000
DTEND;TZID=Europe/Paris:20181201T213000
DTSTAMP:20260426T042312
CREATED:20181029T130706Z
LAST-MODIFIED:20181029T131003Z
UID:2461-1543696200-1543699800@www.cc-paysdevalois.fr
SUMMARY:MUSIVALES : Samarabalouf Up !
DESCRIPTION:Dans le cadre du Festival Jazz-en-Valois\, du 1er au 9 décembre\, découvrez le groupe Samarabalouf Up le samedi 1er décembre 2018 à l’auditorium EGB. \nÀ eux quatre\, ça pince\, ça frotte\, ça percute\, ça s’envole avec toujours le même esprit fougueux et la même envie de partager. \nMusiques de l’Est\, du Nord\, du Sud\, parfois rock\, country\, parfois lyrique et bien plus encore. \nC’est désormais un violon et un violoncelle qui remplacent la fameuse « pompe manouche» de la guitare rythmique\, avec toujours la « bonne vieille » contrebasse pour porter le tout. \nLe nouveau Samarabalouf vous « UP » à travers sa « French World Music » et son nouveau répertoire. \nBientôt 20 ans que les compositions du guitariste François Petit se promènent à travers le monde\, toujours à la frontière des musiques tziganes et manouches. \nEn partenariat avec la Mairie de Le Plessis-Belleville.
URL:https://www.cc-paysdevalois.fr/event/musivales-samarabalouf-up/
LOCATION:Auditorium EGB\, 5\, avenue Georges-Bataille\, Le Plessis-Belleville\, 60330\, France
CATEGORIES:Chanson,Musivales
ATTACH;FMTTYPE=image/jpeg:https://www.cc-paysdevalois.fr/wp-content/uploads/2018/10/festival_jazz_en_valois_2018_affiche.jpg
END:VEVENT
END:VCALENDAR