BEGIN:VCALENDAR
VERSION:2.0
PRODID:-//Communauté de Communes du Pays de Valois - ECPv6.15.15//NONSGML v1.0//EN
CALSCALE:GREGORIAN
METHOD:PUBLISH
X-WR-CALNAME:Communauté de Communes du Pays de Valois
X-ORIGINAL-URL:https://www.cc-paysdevalois.fr
X-WR-CALDESC:Évènements pour Communauté de Communes du Pays de Valois
REFRESH-INTERVAL;VALUE=DURATION:PT1H
X-Robots-Tag:noindex
X-PUBLISHED-TTL:PT1H
BEGIN:VTIMEZONE
TZID:Europe/Paris
BEGIN:DAYLIGHT
TZOFFSETFROM:+0100
TZOFFSETTO:+0200
TZNAME:CEST
DTSTART:20180325T010000
END:DAYLIGHT
BEGIN:STANDARD
TZOFFSETFROM:+0200
TZOFFSETTO:+0100
TZNAME:CET
DTSTART:20181028T010000
END:STANDARD
BEGIN:DAYLIGHT
TZOFFSETFROM:+0100
TZOFFSETTO:+0200
TZNAME:CEST
DTSTART:20190331T010000
END:DAYLIGHT
BEGIN:STANDARD
TZOFFSETFROM:+0200
TZOFFSETTO:+0100
TZNAME:CET
DTSTART:20191027T010000
END:STANDARD
BEGIN:DAYLIGHT
TZOFFSETFROM:+0100
TZOFFSETTO:+0200
TZNAME:CEST
DTSTART:20200329T010000
END:DAYLIGHT
BEGIN:STANDARD
TZOFFSETFROM:+0200
TZOFFSETTO:+0100
TZNAME:CET
DTSTART:20201025T010000
END:STANDARD
END:VTIMEZONE
BEGIN:VEVENT
DTSTART;TZID=Europe/Paris:20190126T203000
DTEND;TZID=Europe/Paris:20190126T220000
DTSTAMP:20260426T031948
CREATED:20181119T105913Z
LAST-MODIFIED:20190125T143205Z
UID:2475-1548534600-1548540000@www.cc-paysdevalois.fr
SUMMARY:[MUSIVALES] Vérino
DESCRIPTION:Soirée exceptionnelle dans le Valois : Vérino fera son Stand Up 3.0 le samedi 26 janvier à la salle Marcel Villiot de Nanteuil-le-Haudouin. (COMPLET) \nIl est comme un pote aux 300 000 spectateurs qui te parle de tout\, avec un regard… comment dire… bien à lui… Rien ne lui échappe.\nVerino saisit tout. Verino voit tout. \nIl a l’art et la manière de surprendre et de te faire rire quand tu ne t’y attends plus en maniant habilement tous ses sujets\, des plus légers aux plus sérieux : le féminisme\, la paternité\, l’actualité\, le handicap…\nPendant plus d’une heure\, Verino t’aura fait rire.\nSans répit.\nSans te rendre compte de rien. \nEt ça t’aura fait du bien ! \nINFOS PRATIQUES\nPlein tarif : 18 € / tarif réduit : 15\,50 € \nHors abonnement\nDurée : 1h20\nSpectacle assis
URL:https://www.cc-paysdevalois.fr/event/musivales-verino/
LOCATION:Salle Marcel Villiot à Nanteuil-le-Haudouin\, 12 rue de Lizy\, Nanteuil-le-Haudouin\, 60440\, France
CATEGORIES:Humour,Musivales
ATTACH;FMTTYPE=image/jpeg:https://www.cc-paysdevalois.fr/wp-content/uploads/2018/11/Vérino_affiche-Moyen.jpg
END:VEVENT
END:VCALENDAR