BEGIN:VCALENDAR
VERSION:2.0
PRODID:-//Communauté de Communes du Pays de Valois - ECPv6.15.15//NONSGML v1.0//EN
CALSCALE:GREGORIAN
METHOD:PUBLISH
X-ORIGINAL-URL:https://www.cc-paysdevalois.fr
X-WR-CALDESC:Évènements pour Communauté de Communes du Pays de Valois
REFRESH-INTERVAL;VALUE=DURATION:PT1H
X-Robots-Tag:noindex
X-PUBLISHED-TTL:PT1H
BEGIN:VTIMEZONE
TZID:Europe/Paris
BEGIN:DAYLIGHT
TZOFFSETFROM:+0100
TZOFFSETTO:+0200
TZNAME:CEST
DTSTART:20180325T010000
END:DAYLIGHT
BEGIN:STANDARD
TZOFFSETFROM:+0200
TZOFFSETTO:+0100
TZNAME:CET
DTSTART:20181028T010000
END:STANDARD
BEGIN:DAYLIGHT
TZOFFSETFROM:+0100
TZOFFSETTO:+0200
TZNAME:CEST
DTSTART:20190331T010000
END:DAYLIGHT
BEGIN:STANDARD
TZOFFSETFROM:+0200
TZOFFSETTO:+0100
TZNAME:CET
DTSTART:20191027T010000
END:STANDARD
BEGIN:DAYLIGHT
TZOFFSETFROM:+0100
TZOFFSETTO:+0200
TZNAME:CEST
DTSTART:20200329T010000
END:DAYLIGHT
BEGIN:STANDARD
TZOFFSETFROM:+0200
TZOFFSETTO:+0100
TZNAME:CET
DTSTART:20201025T010000
END:STANDARD
END:VTIMEZONE
BEGIN:VEVENT
DTSTART;TZID=Europe/Paris:20190622T203000
DTEND;TZID=Europe/Paris:20190622T220000
DTSTAMP:20260425T213850
CREATED:20190605T123538Z
LAST-MODIFIED:20190605T123538Z
UID:2768-1561235400-1561240800@www.cc-paysdevalois.fr
SUMMARY:[MUSIVALES] Si oui\, oui\, sinon\, non.
DESCRIPTION:Pour le dernier spectacle de la saison\, Les Musivales vous donnent rendez-vous le samedi 22 juin 2019 à 20h30 au gymnase de Lagny-le-Sec pour “Si oui\, oui\, sinon\, non !” avec le quatuor Béla et Albert Malcoeur.  \nAlbert Marcoeur\, artiste inclassable depuis les années 70\, est avide de liberté et d’aventures curieuses. \nSes thématiques aussi improbables que quotidiennes : les mouches\, les valises à roulettes\, les produits d’entretien… nous permettent d’entrevoir son univers si singulier où il nous entraîne\, grâce à sa poésie humoristique et sensible soulignée par les cordes du Quatuor Béla qui en font une œuvre mélodique à la fois complexe et attrayante.\nCe quatuor à cordes\, à la réputation internationale\, parcourt un répertoire contemporain. Les musiciens rehaussent le verbe bienveillant d’Albert par leurs cordes qui nous plongent dans une ambiance drôle\, vivante et vibrante. \n\n« Un quatuor c’est plus léger et plus pratique à se trimballer qu’un groupe de rock. » \nINFOS PRATIQUES\nConcert assis.\nTarif plein : 14 € \nInfos et billetterie au 03 44 88 05 15 et sur www.musivales.fr \n 
URL:https://www.cc-paysdevalois.fr/event/musivales-si-oui-oui-sinon-non/
LOCATION:Gymnase de Lagny-le-Sec\, 40 avenue des Peupliers\, Lagny-le-Sec\, 60330\, France
CATEGORIES:Chanson,Musivales
ATTACH;FMTTYPE=image/jpeg:https://www.cc-paysdevalois.fr/wp-content/uploads/2019/06/Affiche_si-oui-oui-sinon-non-Moyen.jpg
END:VEVENT
END:VCALENDAR