BEGIN:VCALENDAR
VERSION:2.0
PRODID:-//Communauté de Communes du Pays de Valois - ECPv6.15.15//NONSGML v1.0//EN
CALSCALE:GREGORIAN
METHOD:PUBLISH
X-WR-CALNAME:Communauté de Communes du Pays de Valois
X-ORIGINAL-URL:https://www.cc-paysdevalois.fr
X-WR-CALDESC:Évènements pour Communauté de Communes du Pays de Valois
REFRESH-INTERVAL;VALUE=DURATION:PT1H
X-Robots-Tag:noindex
X-PUBLISHED-TTL:PT1H
BEGIN:VTIMEZONE
TZID:Europe/Paris
BEGIN:DAYLIGHT
TZOFFSETFROM:+0100
TZOFFSETTO:+0200
TZNAME:CEST
DTSTART:20180325T010000
END:DAYLIGHT
BEGIN:STANDARD
TZOFFSETFROM:+0200
TZOFFSETTO:+0100
TZNAME:CET
DTSTART:20181028T010000
END:STANDARD
BEGIN:DAYLIGHT
TZOFFSETFROM:+0100
TZOFFSETTO:+0200
TZNAME:CEST
DTSTART:20190331T010000
END:DAYLIGHT
BEGIN:STANDARD
TZOFFSETFROM:+0200
TZOFFSETTO:+0100
TZNAME:CET
DTSTART:20191027T010000
END:STANDARD
BEGIN:DAYLIGHT
TZOFFSETFROM:+0100
TZOFFSETTO:+0200
TZNAME:CEST
DTSTART:20200329T010000
END:DAYLIGHT
BEGIN:STANDARD
TZOFFSETFROM:+0200
TZOFFSETTO:+0100
TZNAME:CET
DTSTART:20201025T010000
END:STANDARD
END:VTIMEZONE
BEGIN:VEVENT
DTSTART;TZID=Europe/Paris:20190627T203000
DTEND;TZID=Europe/Paris:20190627T220000
DTSTAMP:20260425T213723
CREATED:20190605T124705Z
LAST-MODIFIED:20190605T124705Z
UID:2772-1561667400-1561672800@www.cc-paysdevalois.fr
SUMMARY:[MUSIVALES] Présentation de saison 2019-2020
DESCRIPTION:Rendez-vous le jeudi 27 juin 2019 à 20h30 à La Passerelle à Crépy-en-Valois pour la présentation de la nouvelle saison des Musivales. Vous découvrirez en avant-première les spectacles qui vous seront proposés à compter du mois de septembre. En cadeau\, un petit concert surprise… \nEntrée gratuite. Réservations au 03 44 88 05 15. \n 
URL:https://www.cc-paysdevalois.fr/event/musivales-presentation-de-saison-2019-2020/
LOCATION:La Passerelle\, 62 rue de Soissons\, Crépy-en-Valois\, 60800\, France
CATEGORIES:Musivales
ATTACH;FMTTYPE=image/jpeg:https://www.cc-paysdevalois.fr/wp-content/uploads/2019/06/affiche_pres_saison-Moyen.jpg
END:VEVENT
END:VCALENDAR