BEGIN:VCALENDAR
VERSION:2.0
PRODID:-//Communauté de Communes du Pays de Valois - ECPv6.15.15//NONSGML v1.0//EN
CALSCALE:GREGORIAN
METHOD:PUBLISH
X-WR-CALNAME:Communauté de Communes du Pays de Valois
X-ORIGINAL-URL:https://www.cc-paysdevalois.fr
X-WR-CALDESC:Évènements pour Communauté de Communes du Pays de Valois
REFRESH-INTERVAL;VALUE=DURATION:PT1H
X-Robots-Tag:noindex
X-PUBLISHED-TTL:PT1H
BEGIN:VTIMEZONE
TZID:Europe/Paris
BEGIN:DAYLIGHT
TZOFFSETFROM:+0100
TZOFFSETTO:+0200
TZNAME:CEST
DTSTART:20180325T010000
END:DAYLIGHT
BEGIN:STANDARD
TZOFFSETFROM:+0200
TZOFFSETTO:+0100
TZNAME:CET
DTSTART:20181028T010000
END:STANDARD
BEGIN:DAYLIGHT
TZOFFSETFROM:+0100
TZOFFSETTO:+0200
TZNAME:CEST
DTSTART:20190331T010000
END:DAYLIGHT
BEGIN:STANDARD
TZOFFSETFROM:+0200
TZOFFSETTO:+0100
TZNAME:CET
DTSTART:20191027T010000
END:STANDARD
BEGIN:DAYLIGHT
TZOFFSETFROM:+0100
TZOFFSETTO:+0200
TZNAME:CEST
DTSTART:20200329T010000
END:DAYLIGHT
BEGIN:STANDARD
TZOFFSETFROM:+0200
TZOFFSETTO:+0100
TZNAME:CET
DTSTART:20201025T010000
END:STANDARD
END:VTIMEZONE
BEGIN:VEVENT
DTSTART;TZID=Europe/Paris:20191123T203000
DTEND;TZID=Europe/Paris:20191123T220000
DTSTAMP:20260425T153817
CREATED:20191104T094809Z
LAST-MODIFIED:20191104T094809Z
UID:3057-1574541000-1574546400@www.cc-paysdevalois.fr
SUMMARY:[MUSIVALES] Gauvain Sers en concert
DESCRIPTION:CONCERT COMPLET !\nLes Musivales vous donnent rendez-vous pour un concert exceptionnel de Gauvain Sers le samedi 23 novembre 2019 à 20h30 à Crépy-en-Valois. Et retrouvez l’artiste valoisien Luc Alenvers en première partie ! \nLes chansons de Gauvain Sers descendent dans la rue. \nCertaines se chantent le poing levé. D’autres se fredonnent le sourire aux lèvres. C’est avec ce répertoire façonné sur deux axes\, où la poésie se mêle au social\, que le Creusois nous embarque dans son deuxième album au titre évocateur\, Les Oubliés. \nDès sa sortie\, l’album s’est classé à la première place des ventes et est désormais disque d’or. Sa tournée le mènera dans les Zeniths. C’est une chance de l’accueillir dans les Musivales ! \nINFOS PRATIQUES \nTarif : 20 €\nConcert assis. 
URL:https://www.cc-paysdevalois.fr/event/musivales-gauvain-sers-en-concert/
LOCATION:Salle Gérard de Nerval Crépy-en-Valois\, avenue Gérard de Nerval\, Crépy-en-Valois\, 60800\, France
CATEGORIES:Concert,Musivales
ATTACH;FMTTYPE=image/jpeg:https://www.cc-paysdevalois.fr/wp-content/uploads/2019/11/affiche_MSVL_Gauvain_Sers_2019.jpg
END:VEVENT
END:VCALENDAR