BEGIN:VCALENDAR
VERSION:2.0
PRODID:-//Communauté de Communes du Pays de Valois - ECPv6.15.15//NONSGML v1.0//EN
CALSCALE:GREGORIAN
METHOD:PUBLISH
X-WR-CALNAME:Communauté de Communes du Pays de Valois
X-ORIGINAL-URL:https://www.cc-paysdevalois.fr
X-WR-CALDESC:Évènements pour Communauté de Communes du Pays de Valois
REFRESH-INTERVAL;VALUE=DURATION:PT1H
X-Robots-Tag:noindex
X-PUBLISHED-TTL:PT1H
BEGIN:VTIMEZONE
TZID:Europe/Paris
BEGIN:DAYLIGHT
TZOFFSETFROM:+0100
TZOFFSETTO:+0200
TZNAME:CEST
DTSTART:20220327T010000
END:DAYLIGHT
BEGIN:STANDARD
TZOFFSETFROM:+0200
TZOFFSETTO:+0100
TZNAME:CET
DTSTART:20221030T010000
END:STANDARD
BEGIN:DAYLIGHT
TZOFFSETFROM:+0100
TZOFFSETTO:+0200
TZNAME:CEST
DTSTART:20230326T010000
END:DAYLIGHT
BEGIN:STANDARD
TZOFFSETFROM:+0200
TZOFFSETTO:+0100
TZNAME:CET
DTSTART:20231029T010000
END:STANDARD
BEGIN:DAYLIGHT
TZOFFSETFROM:+0100
TZOFFSETTO:+0200
TZNAME:CEST
DTSTART:20240331T010000
END:DAYLIGHT
BEGIN:STANDARD
TZOFFSETFROM:+0200
TZOFFSETTO:+0100
TZNAME:CET
DTSTART:20241027T010000
END:STANDARD
END:VTIMEZONE
BEGIN:VEVENT
DTSTART;TZID=Europe/Paris:20230610T100000
DTEND;TZID=Europe/Paris:20230610T180000
DTSTAMP:20260423T070854
CREATED:20230517T083250Z
LAST-MODIFIED:20230517T083250Z
UID:6528-1686391200-1686420000@www.cc-paysdevalois.fr
SUMMARY:Journée portes ouvertes du centre de secours de Crépy-en-Valois
DESCRIPTION:Le Centre de secours de Crépy-en-Valois organise une porte ouverte le samedi 10 juin 2023 de 10h à 18h sur le thème « Vivre au centre de secours ». \nAu cours de cette journée\, vous pourrez assister à des démonstrations de matériel\, des manœuvres\, une présentation des Jeunes Sapeur-Pompiers (JSP) et visiter le Centre de secours. \nBuvette et restauration sur place.
URL:https://www.cc-paysdevalois.fr/event/journee-portes-ouvertes-du-centre-de-secours-de-crepy-en-valois/
LOCATION:Centre de secours de Crépy-en-Valois\, 8 rue Saint Germain\, Crépy-en-Valois\, 60800\, France
CATEGORIES:Portes ouvertes
ATTACH;FMTTYPE=image/jpeg:https://www.cc-paysdevalois.fr/wp-content/uploads/2023/05/JPO-2023-Crepy-en-Valois3-scaled-1.jpg
END:VEVENT
END:VCALENDAR