BEGIN:VCALENDAR
VERSION:2.0
PRODID:-//Communauté de Communes du Pays de Valois - ECPv6.15.15//NONSGML v1.0//EN
CALSCALE:GREGORIAN
METHOD:PUBLISH
X-WR-CALNAME:Communauté de Communes du Pays de Valois
X-ORIGINAL-URL:https://www.cc-paysdevalois.fr
X-WR-CALDESC:Évènements pour Communauté de Communes du Pays de Valois
REFRESH-INTERVAL;VALUE=DURATION:PT1H
X-Robots-Tag:noindex
X-PUBLISHED-TTL:PT1H
BEGIN:VTIMEZONE
TZID:Europe/Paris
BEGIN:DAYLIGHT
TZOFFSETFROM:+0100
TZOFFSETTO:+0200
TZNAME:CEST
DTSTART:20180325T010000
END:DAYLIGHT
BEGIN:STANDARD
TZOFFSETFROM:+0200
TZOFFSETTO:+0100
TZNAME:CET
DTSTART:20181028T010000
END:STANDARD
BEGIN:DAYLIGHT
TZOFFSETFROM:+0100
TZOFFSETTO:+0200
TZNAME:CEST
DTSTART:20190331T010000
END:DAYLIGHT
BEGIN:STANDARD
TZOFFSETFROM:+0200
TZOFFSETTO:+0100
TZNAME:CET
DTSTART:20191027T010000
END:STANDARD
BEGIN:DAYLIGHT
TZOFFSETFROM:+0100
TZOFFSETTO:+0200
TZNAME:CEST
DTSTART:20200329T010000
END:DAYLIGHT
BEGIN:STANDARD
TZOFFSETFROM:+0200
TZOFFSETTO:+0100
TZNAME:CET
DTSTART:20201025T010000
END:STANDARD
END:VTIMEZONE
BEGIN:VEVENT
DTSTART;TZID=Europe/Paris:20191015T180000
DTEND;TZID=Europe/Paris:20191015T193000
DTSTAMP:20260422T141220
CREATED:20191128T134910Z
LAST-MODIFIED:20191128T134910Z
UID:3109-1571162400-1571167800@www.cc-paysdevalois.fr
SUMMARY:Réunion publique de concertation ; création d'une ZAC à Silly-le-Long et Le Plessis-Belleville
DESCRIPTION:Dans le cadre du projet de création de la Zone d’Aménagement Concerté (ZAC) à vocation économique sur les communes de Silly-le-Long et du Plessis-Belleville\, la Communauté de Communes du Pays de Valois organise une réunion publique de concertation ouverte à l’ensemble des habitants et aux acteurs économiques le mardi 15 octobre 2019 à 18h à La Passerelle (1er étage  – 62 rue de Soissons à Crépy en Valois). 
URL:https://www.cc-paysdevalois.fr/event/reunion-publique-de-concertation-creation-dune-zac-a-silly-le-long-et-le-plessis-belleville/
LOCATION:La Passerelle\, 62 rue de Soissons\, Crépy-en-Valois\, 60800\, France
CATEGORIES:Réunion publique
ATTACH;FMTTYPE=image/jpeg:https://www.cc-paysdevalois.fr/wp-content/uploads/2019/11/ZI-Baranfosse-3.jpg
END:VEVENT
END:VCALENDAR