BEGIN:VCALENDAR
VERSION:2.0
PRODID:-//Communauté de Communes du Pays de Valois - ECPv6.15.15//NONSGML v1.0//EN
CALSCALE:GREGORIAN
METHOD:PUBLISH
X-ORIGINAL-URL:https://www.cc-paysdevalois.fr
X-WR-CALDESC:Évènements pour Communauté de Communes du Pays de Valois
REFRESH-INTERVAL;VALUE=DURATION:PT1H
X-Robots-Tag:noindex
X-PUBLISHED-TTL:PT1H
BEGIN:VTIMEZONE
TZID:Europe/Paris
BEGIN:DAYLIGHT
TZOFFSETFROM:+0100
TZOFFSETTO:+0200
TZNAME:CEST
DTSTART:20220327T010000
END:DAYLIGHT
BEGIN:STANDARD
TZOFFSETFROM:+0200
TZOFFSETTO:+0100
TZNAME:CET
DTSTART:20221030T010000
END:STANDARD
BEGIN:DAYLIGHT
TZOFFSETFROM:+0100
TZOFFSETTO:+0200
TZNAME:CEST
DTSTART:20230326T010000
END:DAYLIGHT
BEGIN:STANDARD
TZOFFSETFROM:+0200
TZOFFSETTO:+0100
TZNAME:CET
DTSTART:20231029T010000
END:STANDARD
BEGIN:DAYLIGHT
TZOFFSETFROM:+0100
TZOFFSETTO:+0200
TZNAME:CEST
DTSTART:20240331T010000
END:DAYLIGHT
BEGIN:STANDARD
TZOFFSETFROM:+0200
TZOFFSETTO:+0100
TZNAME:CET
DTSTART:20241027T010000
END:STANDARD
END:VTIMEZONE
BEGIN:VEVENT
DTSTART;TZID=Europe/Paris:20230408T203000
DTEND;TZID=Europe/Paris:20230408T203000
DTSTAMP:20260424T052650
CREATED:20220823T082131Z
LAST-MODIFIED:20220823T082502Z
UID:5943-1680985800-1680985800@www.cc-paysdevalois.fr
SUMMARY:Spectacle - Obsessions graphiques
DESCRIPTION:Dans le cadre du programme Valois\, Terre de Cultures\, nous vous donnons rendez-vous le samedi 8 avril 2023 à 20h30\, à Silly-le-Long. \nPich est un artiste jongleur circassien qui a décidé de faire un spectacle de sa vie. \n« J’ai laissé des empreintes avec des mouvements dans l’air et je vois le monde au travers des traces que ce dernier laisse sur moi.\nLe regard que je porte sur les gens\, se dessine à coup de trajectoires folles\, de zigzags impétueux\, de tracés mystérieux\, de blagues graphiques\, de lignes déjantées\, sans un mot\, sans rien d’autre que le déplacement de mes mains qui laissent filer entre mes doigts l’encre de mes objets\, et ils laissent à leur tour une trace éphémère que je vois\, moi\, et que je vous offre.\nMes trajectoires esquissent ce que je sens et ce n’est pas rien car vous êtes là avec moi pour observer ces constructions graphiques qui m’obsèdent et me rassurent.\nMa vie est une suite d’angles à 90 degrés\, ronds ou pas… et parfois même à 360°.\nCe n’est rien et c’est tout. » \nPlus d’informations : https://www.valois-terredecultures.fr/obession-graphique/
URL:https://www.cc-paysdevalois.fr/event/spectacle-obsessions-graphiques/
CATEGORIES:Spectacle
ATTACH;FMTTYPE=image/jpeg:https://www.cc-paysdevalois.fr/wp-content/uploads/2022/08/2023-04-08-Obsession-Graphique-PyramideBalles-@GuillaumeAuvinet-1024x683-1.jpg
END:VEVENT
END:VCALENDAR