BEGIN:VCALENDAR
VERSION:2.0
PRODID:-//Communauté de Communes du Pays de Valois - ECPv6.15.15//NONSGML v1.0//EN
CALSCALE:GREGORIAN
METHOD:PUBLISH
X-ORIGINAL-URL:https://www.cc-paysdevalois.fr
X-WR-CALDESC:Évènements pour Communauté de Communes du Pays de Valois
REFRESH-INTERVAL;VALUE=DURATION:PT1H
X-Robots-Tag:noindex
X-PUBLISHED-TTL:PT1H
BEGIN:VTIMEZONE
TZID:Europe/Paris
BEGIN:DAYLIGHT
TZOFFSETFROM:+0100
TZOFFSETTO:+0200
TZNAME:CEST
DTSTART:20230326T010000
END:DAYLIGHT
BEGIN:STANDARD
TZOFFSETFROM:+0200
TZOFFSETTO:+0100
TZNAME:CET
DTSTART:20231029T010000
END:STANDARD
BEGIN:DAYLIGHT
TZOFFSETFROM:+0100
TZOFFSETTO:+0200
TZNAME:CEST
DTSTART:20240331T010000
END:DAYLIGHT
BEGIN:STANDARD
TZOFFSETFROM:+0200
TZOFFSETTO:+0100
TZNAME:CET
DTSTART:20241027T010000
END:STANDARD
BEGIN:DAYLIGHT
TZOFFSETFROM:+0100
TZOFFSETTO:+0200
TZNAME:CEST
DTSTART:20250330T010000
END:DAYLIGHT
BEGIN:STANDARD
TZOFFSETFROM:+0200
TZOFFSETTO:+0100
TZNAME:CET
DTSTART:20251026T010000
END:STANDARD
END:VTIMEZONE
BEGIN:VEVENT
DTSTART;TZID=Europe/Paris:20240522T100000
DTEND;TZID=Europe/Paris:20240522T170000
DTSTAMP:20260423T125302
CREATED:20240404T074725Z
LAST-MODIFIED:20240404T075043Z
UID:7389-1716372000-1716397200@www.cc-paysdevalois.fr
SUMMARY:Sha doizo - Marionnette
DESCRIPTION:Le Friiix Club vous donne rendez-vous mercredi 22 mai à Baron pour 3 représentations de Sha Doizo : 10h\, 15h et 17h.\n \nSha Doizo est un animal imaginaire qui vit dans un jardin imaginaire. Ni chat\, ni doigt\, ni oiseau\, Sha Doizo est un peu tout ça en même temps.\n\n\n\n\n\n\n\n\n\n\nSha Doizo est un animal imaginaire qui vit dans un jardin imaginaire. Ni chat\, ni doigt\, ni oiseau\, Sha Doizo est un peu tout ça en même temps. Il voudrait bien voler mais un chat ne vole pas. \nIl voudrait bien miauler mais un doigt ne miaule pas. \nSha Doizo va découvrir ainsi\, chemin faisant\, qui il est vraiment.
URL:https://www.cc-paysdevalois.fr/event/sha-doizo-marionnette/
LOCATION:Salle polyvalente de Baron\, 15 route de Beaulieu\, Baron\, 60300
CATEGORIES:Animation enfants,Spectacle
ATTACH;FMTTYPE=image/jpeg:https://www.cc-paysdevalois.fr/wp-content/uploads/2024/04/affiche-sha-doizo-bd.jpg
END:VEVENT
END:VCALENDAR