BEGIN:VCALENDAR
VERSION:2.0
PRODID:-//Communauté de Communes du Pays de Valois - ECPv6.15.15//NONSGML v1.0//EN
CALSCALE:GREGORIAN
METHOD:PUBLISH
X-ORIGINAL-URL:https://www.cc-paysdevalois.fr
X-WR-CALDESC:Évènements pour Communauté de Communes du Pays de Valois
REFRESH-INTERVAL;VALUE=DURATION:PT1H
X-Robots-Tag:noindex
X-PUBLISHED-TTL:PT1H
BEGIN:VTIMEZONE
TZID:Europe/Paris
BEGIN:DAYLIGHT
TZOFFSETFROM:+0100
TZOFFSETTO:+0200
TZNAME:CEST
DTSTART:20240331T010000
END:DAYLIGHT
BEGIN:STANDARD
TZOFFSETFROM:+0200
TZOFFSETTO:+0100
TZNAME:CET
DTSTART:20241027T010000
END:STANDARD
BEGIN:DAYLIGHT
TZOFFSETFROM:+0100
TZOFFSETTO:+0200
TZNAME:CEST
DTSTART:20250330T010000
END:DAYLIGHT
BEGIN:STANDARD
TZOFFSETFROM:+0200
TZOFFSETTO:+0100
TZNAME:CET
DTSTART:20251026T010000
END:STANDARD
BEGIN:DAYLIGHT
TZOFFSETFROM:+0100
TZOFFSETTO:+0200
TZNAME:CEST
DTSTART:20260329T010000
END:DAYLIGHT
BEGIN:STANDARD
TZOFFSETFROM:+0200
TZOFFSETTO:+0100
TZNAME:CET
DTSTART:20261025T010000
END:STANDARD
END:VTIMEZONE
BEGIN:VEVENT
DTSTART;TZID=Europe/Paris:20250426T163000
DTEND;TZID=Europe/Paris:20250426T173000
DTSTAMP:20260422T220206
CREATED:20250401T122150Z
LAST-MODIFIED:20250401T122150Z
UID:17359-1745685000-1745688600@www.cc-paysdevalois.fr
SUMMARY:Hêtre | poésie aérienne | compagnie Libertivore
DESCRIPTION:La compagnie Libertivore vous donne rendez-vous à Jardins en Fanfare pour une représentation exceptionnelle de Hêtre\, un envoûtant corps à corps entre un arbre et une femme-liane\, un engagement physique et émotionnel\, une histoire suspendue dans les airs… \nEntrée gratuite\nTout public \n  \n 
URL:https://www.cc-paysdevalois.fr/event/hetre-poesie-aerienne-compagnie-libertivore/
LOCATION:Fresnoy le luat\, Rue de la montagne\, Fresnoy le luat\, 60800
CATEGORIES:Cirque,Spectacle
ATTACH;FMTTYPE=image/jpeg:https://www.cc-paysdevalois.fr/wp-content/uploads/2025/04/affiche-2024-VF-large_Page_13-scaled.jpg
END:VEVENT
END:VCALENDAR