BEGIN:VCALENDAR
VERSION:2.0
PRODID:-//Communauté de Communes du Pays de Valois - ECPv6.15.15//NONSGML v1.0//EN
CALSCALE:GREGORIAN
METHOD:PUBLISH
X-WR-CALNAME:Communauté de Communes du Pays de Valois
X-ORIGINAL-URL:https://www.cc-paysdevalois.fr
X-WR-CALDESC:Évènements pour Communauté de Communes du Pays de Valois
REFRESH-INTERVAL;VALUE=DURATION:PT1H
X-Robots-Tag:noindex
X-PUBLISHED-TTL:PT1H
BEGIN:VTIMEZONE
TZID:Europe/Paris
BEGIN:DAYLIGHT
TZOFFSETFROM:+0100
TZOFFSETTO:+0200
TZNAME:CEST
DTSTART:20220327T010000
END:DAYLIGHT
BEGIN:STANDARD
TZOFFSETFROM:+0200
TZOFFSETTO:+0100
TZNAME:CET
DTSTART:20221030T010000
END:STANDARD
BEGIN:DAYLIGHT
TZOFFSETFROM:+0100
TZOFFSETTO:+0200
TZNAME:CEST
DTSTART:20230326T010000
END:DAYLIGHT
BEGIN:STANDARD
TZOFFSETFROM:+0200
TZOFFSETTO:+0100
TZNAME:CET
DTSTART:20231029T010000
END:STANDARD
BEGIN:DAYLIGHT
TZOFFSETFROM:+0100
TZOFFSETTO:+0200
TZNAME:CEST
DTSTART:20240331T010000
END:DAYLIGHT
BEGIN:STANDARD
TZOFFSETFROM:+0200
TZOFFSETTO:+0100
TZNAME:CET
DTSTART:20241027T010000
END:STANDARD
END:VTIMEZONE
BEGIN:VEVENT
DTSTART;TZID=Europe/Paris:20230921T140000
DTEND;TZID=Europe/Paris:20230927T150000
DTSTAMP:20260424T004737
CREATED:20230823T144713Z
LAST-MODIFIED:20230823T144832Z
UID:6790-1695304800-1695826800@www.cc-paysdevalois.fr
SUMMARY:Little garden\, parade nuptiale jonglée
DESCRIPTION:Après le succès des représentations du mois de juin à Crépy-en-Valois\, Rocquemont et Betz\, Fabrizio Solinas revient dans le Pays de Valois avec 6 représentations gratuites du spectacle Little garden. \nLittle Garden est une petite fenêtre ouverte sur une jungle méconnue. Une parade nuptiale jonglée\, une démonstration de force brute\, bruyante et bestiale. Une invitation à stimuler l’imagination de chacun. Une ode à la vie\, tout bêtement. Comme les saumons qui remontent le courant pour aller s’accoupler au péril de leur propre vie\, une créature entre sur scène\, balles à la main\, pour chercher et choisir sa compagne.  \nApprochez et observez ce spécimen rare et insolite de jongleur-animal à la saison des amours ! \n\n\n \n\n6 représentations gratuites :\n\nMercredi 30 août à 19h à Bonneuil-en-Valois (face à la mairie)\nJeudi 31 août à 19h à Auger-Saint-Vincent (face au Café citoyen)\nMercredi 20 septembre à 14h à Cuvergnon (devant la nouvelle école)\nJeudi 21 septembre à 14h à Rosoy-en-Multien (parvis de l’église)\nVendredi 22 septembre à 19h à Glaignes (parc de l’Espace Beaumarais)\nMercredi 27 septembre à 15h à Ève (parc du château)
URL:https://www.cc-paysdevalois.fr/event/little-garden-parade-nuptiale-jonglee-2/
CATEGORIES:Culture,Spectacle
ATTACH;FMTTYPE=image/png:https://www.cc-paysdevalois.fr/wp-content/uploads/2023/08/affiche-little-garden-Grand.png
END:VEVENT
END:VCALENDAR