BEGIN:VCALENDAR
VERSION:2.0
PRODID:-//Communauté de Communes du Pays de Valois - ECPv6.15.15//NONSGML v1.0//EN
CALSCALE:GREGORIAN
METHOD:PUBLISH
X-WR-CALNAME:Communauté de Communes du Pays de Valois
X-ORIGINAL-URL:https://www.cc-paysdevalois.fr
X-WR-CALDESC:Évènements pour Communauté de Communes du Pays de Valois
REFRESH-INTERVAL;VALUE=DURATION:PT1H
X-Robots-Tag:noindex
X-PUBLISHED-TTL:PT1H
BEGIN:VTIMEZONE
TZID:Europe/Paris
BEGIN:DAYLIGHT
TZOFFSETFROM:+0100
TZOFFSETTO:+0200
TZNAME:CEST
DTSTART:20210328T010000
END:DAYLIGHT
BEGIN:STANDARD
TZOFFSETFROM:+0200
TZOFFSETTO:+0100
TZNAME:CET
DTSTART:20211031T010000
END:STANDARD
BEGIN:DAYLIGHT
TZOFFSETFROM:+0100
TZOFFSETTO:+0200
TZNAME:CEST
DTSTART:20220327T010000
END:DAYLIGHT
BEGIN:STANDARD
TZOFFSETFROM:+0200
TZOFFSETTO:+0100
TZNAME:CET
DTSTART:20221030T010000
END:STANDARD
BEGIN:DAYLIGHT
TZOFFSETFROM:+0100
TZOFFSETTO:+0200
TZNAME:CEST
DTSTART:20230326T010000
END:DAYLIGHT
BEGIN:STANDARD
TZOFFSETFROM:+0200
TZOFFSETTO:+0100
TZNAME:CET
DTSTART:20231029T010000
END:STANDARD
END:VTIMEZONE
BEGIN:VEVENT
DTSTART;TZID=Europe/Paris:20220604T140000
DTEND;TZID=Europe/Paris:20220604T153000
DTSTAMP:20260424T185016
CREATED:20220511T073938Z
LAST-MODIFIED:20220603T092555Z
UID:5659-1654351200-1654356600@www.cc-paysdevalois.fr
SUMMARY:[COMPLET] Visite guidée du Centre historique de Crépy-en-Valois
DESCRIPTION:L’Office de Tourisme du Pays de Valois vous propose de découvrir gratuitement le centre historique de Crépy-en-Valois lors d’une visite guidée accompagnée par la guide conférencière Mathilde. \nInformations pratiques\nSamedi 4 juin 2022 à 14h. Gratuit.\nDurée de la visite : 1h15\nNombre de places limitées. [COMPLET]\nRéservation obligatoire au 03 44 59 03 97 / contact@valois-tourisme.com\nwww.valois-tourisme.com
URL:https://www.cc-paysdevalois.fr/event/visite-guidee-du-centre-historique-de-crepy-en-valois/
LOCATION:Crépy-en-Valois\, Crépy-en-Valois\, 60800
CATEGORIES:Tourisme
ATTACH;FMTTYPE=image/png:https://www.cc-paysdevalois.fr/wp-content/uploads/2022/05/Affiche-visite-guidee7.06-1.png
ORGANIZER;CN="Office de tourisme du Pays de Valois":MAILTO:contact@valois-tourisme.com
END:VEVENT
END:VCALENDAR