BEGIN:VCALENDAR
VERSION:2.0
PRODID:-//Communauté de Communes du Pays de Valois - ECPv6.15.15//NONSGML v1.0//EN
CALSCALE:GREGORIAN
METHOD:PUBLISH
X-WR-CALNAME:Communauté de Communes du Pays de Valois
X-ORIGINAL-URL:https://www.cc-paysdevalois.fr
X-WR-CALDESC:Évènements pour Communauté de Communes du Pays de Valois
REFRESH-INTERVAL;VALUE=DURATION:PT1H
X-Robots-Tag:noindex
X-PUBLISHED-TTL:PT1H
BEGIN:VTIMEZONE
TZID:Europe/Paris
BEGIN:DAYLIGHT
TZOFFSETFROM:+0100
TZOFFSETTO:+0200
TZNAME:CEST
DTSTART:20210328T010000
END:DAYLIGHT
BEGIN:STANDARD
TZOFFSETFROM:+0200
TZOFFSETTO:+0100
TZNAME:CET
DTSTART:20211031T010000
END:STANDARD
BEGIN:DAYLIGHT
TZOFFSETFROM:+0100
TZOFFSETTO:+0200
TZNAME:CEST
DTSTART:20220327T010000
END:DAYLIGHT
BEGIN:STANDARD
TZOFFSETFROM:+0200
TZOFFSETTO:+0100
TZNAME:CET
DTSTART:20221030T010000
END:STANDARD
BEGIN:DAYLIGHT
TZOFFSETFROM:+0100
TZOFFSETTO:+0200
TZNAME:CEST
DTSTART:20230326T010000
END:DAYLIGHT
BEGIN:STANDARD
TZOFFSETFROM:+0200
TZOFFSETTO:+0100
TZNAME:CET
DTSTART:20231029T010000
END:STANDARD
END:VTIMEZONE
BEGIN:VEVENT
DTSTART;TZID=Europe/Paris:20220709T140000
DTEND;TZID=Europe/Paris:20220709T151500
DTSTAMP:20260424T173548
CREATED:20220629T082609Z
LAST-MODIFIED:20220629T131458Z
UID:5788-1657375200-1657379700@www.cc-paysdevalois.fr
SUMMARY:Visite guidée - Centre historique de Crépy-en-Valois
DESCRIPTION:L’Office de Tourisme du Pays de Valois vous propose de découvrir le centre historique de Crépy-en-Valois le temps d’une visite guidée le samedi 9 juillet à 14h\, avec Mathilde\, guide conférencière. \nDurée de la visite : 1h15. \nNombre de places limitées. Réservation obligatoire au 03 44 59 03 97.
URL:https://www.cc-paysdevalois.fr/event/visite-guidee-centre-historique-de-crepy-en-valois/
LOCATION:Crépy-en-Valois\, Crépy-en-Valois\, 60800
CATEGORIES:Tourisme
ATTACH;FMTTYPE=image/png:https://www.cc-paysdevalois.fr/wp-content/uploads/2022/06/Visitesguideesjuillet.png
ORGANIZER;CN="Office de tourisme du Pays de Valois":MAILTO:contact@valois-tourisme.com
END:VEVENT
BEGIN:VEVENT
DTSTART;TZID=Europe/Paris:20220720T140000
DTEND;TZID=Europe/Paris:20220720T151500
DTSTAMP:20260424T173548
CREATED:20220629T083204Z
LAST-MODIFIED:20220629T131723Z
UID:5793-1658325600-1658330100@www.cc-paysdevalois.fr
SUMMARY:Visite guidée - Centre historique de Crépy-en-Valois
DESCRIPTION:L’Office de Tourisme du Pays de Valois vous propose de découvrir le centre historique de Crépy-en-Valois le temps d’une visite guidée le samedi 20 juillet à 14h\, avec Mathilde\, guide conférencière. \nDurée de la visite : 1h15. \nNombre de places limitées. Réservation obligatoire au 03 44 59 03 97.
URL:https://www.cc-paysdevalois.fr/event/visite-guidee-centre-historique-de-crepy-en-valois-2/
LOCATION:Crépy-en-Valois\, Crépy-en-Valois\, 60800
CATEGORIES:Tourisme
ATTACH;FMTTYPE=image/png:https://www.cc-paysdevalois.fr/wp-content/uploads/2022/06/Visitesguideesjuillet.png
ORGANIZER;CN="Office de tourisme du Pays de Valois":MAILTO:contact@valois-tourisme.com
END:VEVENT
END:VCALENDAR