BEGIN:VCALENDAR
VERSION:2.0
PRODID:-//Communauté de Communes du Pays de Valois - ECPv6.15.15//NONSGML v1.0//EN
CALSCALE:GREGORIAN
METHOD:PUBLISH
X-ORIGINAL-URL:https://www.cc-paysdevalois.fr
X-WR-CALDESC:Évènements pour Communauté de Communes du Pays de Valois
REFRESH-INTERVAL;VALUE=DURATION:PT1H
X-Robots-Tag:noindex
X-PUBLISHED-TTL:PT1H
BEGIN:VTIMEZONE
TZID:Europe/Paris
BEGIN:DAYLIGHT
TZOFFSETFROM:+0100
TZOFFSETTO:+0200
TZNAME:CEST
DTSTART:20230326T010000
END:DAYLIGHT
BEGIN:STANDARD
TZOFFSETFROM:+0200
TZOFFSETTO:+0100
TZNAME:CET
DTSTART:20231029T010000
END:STANDARD
BEGIN:DAYLIGHT
TZOFFSETFROM:+0100
TZOFFSETTO:+0200
TZNAME:CEST
DTSTART:20240331T010000
END:DAYLIGHT
BEGIN:STANDARD
TZOFFSETFROM:+0200
TZOFFSETTO:+0100
TZNAME:CET
DTSTART:20241027T010000
END:STANDARD
BEGIN:DAYLIGHT
TZOFFSETFROM:+0100
TZOFFSETTO:+0200
TZNAME:CEST
DTSTART:20250330T010000
END:DAYLIGHT
BEGIN:STANDARD
TZOFFSETFROM:+0200
TZOFFSETTO:+0100
TZNAME:CET
DTSTART:20251026T010000
END:STANDARD
END:VTIMEZONE
BEGIN:VEVENT
DTSTART;TZID=Europe/Paris:20240203T150000
DTEND;TZID=Europe/Paris:20240203T170000
DTSTAMP:20260423T182311
CREATED:20240124T163012Z
LAST-MODIFIED:20240124T163012Z
UID:7205-1706972400-1706979600@www.cc-paysdevalois.fr
SUMMARY:Visite guidée et tea time au château d'Ermenonville
DESCRIPTION:Découvrez l’histoire du château d’Ermenonville et de ses personnages à travers une visite guidée exclusive. La visite sera suivie par un Tea Time\, réalisé par le chef du restaurant. \nPlaces limitées. Réservation obligatoire auprès de l’Office de tourisme du Pays de Valois ou en ligne \n\nInfos pratiques\n\nTarifs\n23€ / adulte\n20€ / enfant \nDurée: 2h \nLieu de rendez-vous: Rue René de Girardin 60950 Ermenonville.
URL:https://www.cc-paysdevalois.fr/event/visite-guidee-et-tea-time-au-chateau-dermenonville/
LOCATION:Chateau d’Ermenonville\, rue René Girardin\, Ermenonville\, 60950
CATEGORIES:Tourisme,Visite guidée
ATTACH;FMTTYPE=image/jpeg:https://www.cc-paysdevalois.fr/wp-content/uploads/2024/01/affiche_chateau_3fevr.jpg
END:VEVENT
BEGIN:VEVENT
DTSTART;TZID=Europe/Paris:20240208T190000
DTEND;TZID=Europe/Paris:20240208T200000
DTSTAMP:20260423T182311
CREATED:20240126T152139Z
LAST-MODIFIED:20240126T152139Z
UID:7214-1707418800-1707422400@www.cc-paysdevalois.fr
SUMMARY:Conférence et dégustation "Les caves de Crépy-en-Valois"
DESCRIPTION:Autour d’une dégustation proposée par Valois fromages\, l’Office de tourisme du Pays de Valois vous propose sa première conférence pour découvrir l’histoire des caves de Crépy-en-Valois. \nPlaces limitées. Réservation obligatoire auprès de l’Office de tourisme du Pays de Valois ou sur le site \n  \nInfos pratiques\nTarif : 25€ par personne \nDurée : 1h \nLieu de rendez-vous : 4 rue Jeanne d’Arc 60800 Crépy-en-Valois.
URL:https://www.cc-paysdevalois.fr/event/conference-et-degustation-les-caves-de-crepy-en-valois/
LOCATION:Valois Fromages\, 4 rue Jeanne d'Arc\, Crépy-en-Valois\, 60800
CATEGORIES:Conférence,Tourisme
ATTACH;FMTTYPE=image/jpeg:https://www.cc-paysdevalois.fr/wp-content/uploads/2024/01/affiche_conf_8fev.jpg
END:VEVENT
END:VCALENDAR