BEGIN:VCALENDAR
VERSION:2.0
PRODID:-//Communauté de Communes du Pays de Valois - ECPv6.15.15//NONSGML v1.0//EN
CALSCALE:GREGORIAN
METHOD:PUBLISH
X-ORIGINAL-URL:https://www.cc-paysdevalois.fr
X-WR-CALDESC:Évènements pour Communauté de Communes du Pays de Valois
REFRESH-INTERVAL;VALUE=DURATION:PT1H
X-Robots-Tag:noindex
X-PUBLISHED-TTL:PT1H
BEGIN:VTIMEZONE
TZID:Europe/Paris
BEGIN:DAYLIGHT
TZOFFSETFROM:+0100
TZOFFSETTO:+0200
TZNAME:CEST
DTSTART:20220327T010000
END:DAYLIGHT
BEGIN:STANDARD
TZOFFSETFROM:+0200
TZOFFSETTO:+0100
TZNAME:CET
DTSTART:20221030T010000
END:STANDARD
BEGIN:DAYLIGHT
TZOFFSETFROM:+0100
TZOFFSETTO:+0200
TZNAME:CEST
DTSTART:20230326T010000
END:DAYLIGHT
BEGIN:STANDARD
TZOFFSETFROM:+0200
TZOFFSETTO:+0100
TZNAME:CET
DTSTART:20231029T010000
END:STANDARD
BEGIN:DAYLIGHT
TZOFFSETFROM:+0100
TZOFFSETTO:+0200
TZNAME:CEST
DTSTART:20240331T010000
END:DAYLIGHT
BEGIN:STANDARD
TZOFFSETFROM:+0200
TZOFFSETTO:+0100
TZNAME:CET
DTSTART:20241027T010000
END:STANDARD
END:VTIMEZONE
BEGIN:VEVENT
DTSTART;TZID=Europe/Paris:20230916T200000
DTEND;TZID=Europe/Paris:20230916T230000
DTSTAMP:20260424T015933
CREATED:20230823T153232Z
LAST-MODIFIED:20230823T153232Z
UID:6792-1694894400-1694905200@www.cc-paysdevalois.fr
SUMMARY:Journées européennes du patrimoine | Soirée à la bougie au Donjon de Vez
DESCRIPTION:Le samedi 16 septembre\, à l’occasion d’une soirée unique\, le Donjon de Vez et son jardin remarquable paré de 1000 bougies\, accueillera ses visiteurs pour un dîner insolite sur fond musical.\nPassez un moment d’exception le temps d’une soirée\nUne parenthèse hors du temps pour découvrir cet ancien château fort\, haut-lieu de l’histoire du Valois et site patrimonial exceptionnel qui fait dialoguer le Moyen-Age et l’art contemporain. Savourez ce moment et éveillez vos sens en Pays de Valois !  \nLa soirée comprenant l’accès libre aux jardins du Donjon et la chapelle ainsi qu’un diner en accords mets et vins est proposé pour un tarif de 49€ pour les adultes et 30€ pour les enfants. \nUn week-end riche en animations pour découvrir le Pays de Valois\nÀ l’occasion des Journées européennes du patrimoine\, le Pays de Valois s’anime. L’Office de tourisme s’associe aux hébergeurs du territoire afin de proposer aux visiteurs une offre week-end découverte. La liste des hébergements partenaires et les informations sont disponibles sur le site web : www.valois-tourisme.com
URL:https://www.cc-paysdevalois.fr/event/journees-europeennes-du-patrimoine-soiree-a-la-bougie-au-donjon-de-vez/
LOCATION:Donjon de Vez\, 3 bis Rue de la Croix Rebours\, Vez\, 60117
CATEGORIES:Évènement,Tourisme
ATTACH;FMTTYPE=image/png:https://www.cc-paysdevalois.fr/wp-content/uploads/2023/08/affiche_A3_jep-23_OT.png
END:VEVENT
END:VCALENDAR